FILENAME: O4611216.NWS.956525.tif
QUADRANGLE_NAME: RATTLESNAKE MOUNTAIN
QUADRANT: NW
WEST_LONGITUDE: -112 7 30.00000
EAST_LONGITUDE: -112 3 45.00000
NORTH_LATITUDE: 46 52 30.00000
SOUTH_LATITUDE: 46 48 45.00000
PRODUCTION_DATE: 1998 12 30
RASTER_ORDER: LEFT_RIGHT/TOP_BOTTOM
BAND_ORGANIZATION: SINGLE FILE
BAND_CONTENT: BLACK&WHITE
BAND_CONTENT: UNDEFINED
BAND_CONTENT: UNDEFINED
BITS_PER_PIXEL: 8
SAMPLES_AND_LINES: 5550 7620
HORIZONTAL_DATUM: NAD83
HORIZONTAL_COORDINATE_SYSTEM: UTM
COORDINATE_ZONE: 12
HORIZONTAL_UNITS: METERS
HORIZONTAL_RESOLUTION: 1.00000
SECONDARY_HORIZONTAL_DATUM: NAD27
XY_ORIGIN: 413790.00000 5192190.00000
SECONDARY_XY_ORIGIN: 413851.41000 5191977.26400
NATION: US
STATE: MT
NW_QUAD_CORNER_XY: 414272.31200 5191887.77900
NE_QUAD_CORNER_XY: 419034.92500 5191821.41500
SE_QUAD_CORNERY_XY: 418940.96200 5184876.28200
SW_QUAD_CORNER_XY: 414172.82000 5184942.65600
SECONDARY_NW_QUAD_XY: 414269.67700 5191669.32200
SECONDARY_NE_QUAD_XY: 419032.43600 5191602.95600
SECONDARY_SE_QUAD_XY: 418938.47400 5184657.85300
SECONDARY_SW_QUAD_XY: 414170.18600 5184724.22900
RMSE_XY: 1.83000
IMAGE_SOURCE: BLACK AND WHITE FILM
SOURCE_IMAGE_ID: NAPP 8388 49
SOURCE_IMAGE_DATE: 1995 08 09
SOURCE_IMAGE_ID: NAPP 8388 47
SOURCE_IMAGE_DATE: 1995 08 09
SOURCE_DEM_DATE: 1997 00 00
AGENCY: WESTERN MAPPING CENTER (WMC)
PRODUCER: ANALYTICAL SURVEYS INC.
PRODUCTION_SYSTEM: ORBIT OR_RECTIFY V.5.2
COMPRESSION: UNDEFINED
STANDARD_VERSION: 1996 12
METADATA_DATE: 1999 01 05
DATA_FILE_SIZE: 42296550
BYTE_COUNT: 5550
