FILENAME: O4611214.SWS.966168.tif
QUADRANGLE_NAME: CANYON CREEK
QUADRANT: SW
WEST_LONGITUDE: -112 22 30.00000
EAST_LONGITUDE: -112 18 45.00000
NORTH_LATITUDE: 46 48 45.00000
SOUTH_LATITUDE: 46 45 0.00000
PRODUCTION_DATE: 1998 12 28
RASTER_ORDER: LEFT_RIGHT/TOP_BOTTOM
BAND_ORGANIZATION: SINGLE FILE
BAND_CONTENT: BLACK&WHITE
BAND_CONTENT: UNDEFINED
BAND_CONTENT: UNDEFINED
BITS_PER_PIXEL: 8
SAMPLES_AND_LINES: 5580 7650
HORIZONTAL_DATUM: NAD83
HORIZONTAL_COORDINATE_SYSTEM: UTM
COORDINATE_ZONE: 12
HORIZONTAL_UNITS: METERS
HORIZONTAL_RESOLUTION: 1.00000
SECONDARY_HORIZONTAL_DATUM: NAD27
XY_ORIGIN: 394590.00000 5185560.00000
SECONDARY_XY_ORIGIN: 394652.05500 5185347.27100
NATION: US
STATE: MT
NW_QUAD_CORNER_XY: 395100.32000 5185246.08900
NE_QUAD_CORNER_XY: 399868.43400 5185164.53900
SE_QUAD_CORNERY_XY: 399752.47600 5178219.51800
SW_QUAD_CORNER_XY: 394978.83800 5178301.07900
SECONDARY_NW_QUAD_XY: 395097.09900 5185027.67100
SECONDARY_NE_QUAD_XY: 399865.36000 5184946.12000
SECONDARY_SE_QUAD_XY: 399749.40200 5178001.13000
SECONDARY_SW_QUAD_XY: 394975.61800 5178082.69300
RMSE_XY: 2.11000
IMAGE_SOURCE: BLACK AND WHITE FILM
SOURCE_IMAGE_ID: NAPP 9486 89
SOURCE_IMAGE_DATE: 1995 08 20
SOURCE_DEM_DATE: 1998 01 01
AGENCY: WESTERN MAPPING CENTER (WMC)
PRODUCER: ANALYTICAL SURVEYS INC.
PRODUCTION_SYSTEM: ORBIT OR_RECTIFY V.5.2
COMPRESSION: UNDEFINED
STANDARD_VERSION: 1996 12
METADATA_DATE: 1999 02 06
DATA_FILE_SIZE: 42692580
BYTE_COUNT: 5580
