FILENAME: O4611213.NWS.965205.tif
QUADRANGLE_NAME: GRANITE BUTTE
QUADRANT: NW
WEST_LONGITUDE: -112 30 0.00000
EAST_LONGITUDE: -112 26 15.00000
NORTH_LATITUDE: 46 52 30.00000
SOUTH_LATITUDE: 46 48 45.00000
PRODUCTION_DATE: 1998 12 28
RASTER_ORDER: LEFT_RIGHT/TOP_BOTTOM
BAND_ORGANIZATION: SINGLE FILE
BAND_CONTENT: BLACK&WHITE
BAND_CONTENT: UNDEFINED
BAND_CONTENT: UNDEFINED
BITS_PER_PIXEL: 8
SAMPLES_AND_LINES: 5610 7650
HORIZONTAL_DATUM: NAD83
HORIZONTAL_COORDINATE_SYSTEM: UTM
COORDINATE_ZONE: 12
HORIZONTAL_UNITS: METERS
HORIZONTAL_RESOLUTION: 1.00000
SECONDARY_HORIZONTAL_DATUM: NAD27
XY_ORIGIN: 385170.00000 5192670.00000
SECONDARY_XY_ORIGIN: 385232.33300 5192456.98400
NATION: US
STATE: MT
NW_QUAD_CORNER_XY: 385696.78200 5192365.62800
NE_QUAD_CORNER_XY: 390459.35000 5192276.50200
SE_QUAD_CORNERY_XY: 390332.21300 5185331.43200
SW_QUAD_CORNER_XY: 385564.11400 5185420.57100
SECONDARY_NW_QUAD_XY: 385693.26800 5192147.18600
SECONDARY_NE_QUAD_XY: 390455.98300 5192058.05700
SECONDARY_SE_QUAD_XY: 390328.84600 5185113.01800
SECONDARY_SW_QUAD_XY: 385560.60100 5185202.15900
RMSE_XY: 2.52000
IMAGE_SOURCE: BLACK AND WHITE FILM
SOURCE_IMAGE_ID: NAPP 9486 178
SOURCE_IMAGE_DATE: 1995 08 20
SOURCE_DEM_DATE: 1993 00 00
AGENCY: WESTERN MAPPING CENTER (WMC)
PRODUCER: ANALYTICAL SURVEYS INC.
PRODUCTION_SYSTEM: ORBIT OR_RECTIFY V.5.2
COMPRESSION: UNDEFINED
STANDARD_VERSION: 1996 12
METADATA_DATE: 1999 02 04
DATA_FILE_SIZE: 42922110
BYTE_COUNT: 5610
