FILENAME: O4611206.NWS.966162.tif
QUADRANGLE_NAME: WILBORN
QUADRANT: NW
WEST_LONGITUDE: -112 22 30.00000
EAST_LONGITUDE: -112 18 45.00000
NORTH_LATITUDE: 47 0 0.00000
SOUTH_LATITUDE: 46 56 15.00000
PRODUCTION_DATE: 1998 12 28
RASTER_ORDER: LEFT_RIGHT/TOP_BOTTOM
BAND_ORGANIZATION: SINGLE FILE
BAND_CONTENT: BLACK&WHITE
BAND_CONTENT: UNDEFINED
BAND_CONTENT: UNDEFINED
BITS_PER_PIXEL: 8
SAMPLES_AND_LINES: 5580 7680
HORIZONTAL_DATUM: NAD83
HORIZONTAL_COORDINATE_SYSTEM: UTM
COORDINATE_ZONE: 12
HORIZONTAL_UNITS: METERS
HORIZONTAL_RESOLUTION: 1.00000
SECONDARY_HORIZONTAL_DATUM: NAD27
XY_ORIGIN: 394950.00000 5206410.00000
SECONDARY_XY_ORIGIN: 395011.94300 5206196.72100
NATION: US
STATE: MT
NW_QUAD_CORNER_XY: 395465.51900 5206081.55000
NE_QUAD_CORNER_XY: 400217.02800 5206000.03500
SE_QUAD_CORNERY_XY: 400100.71000 5199054.79800
SW_QUAD_CORNER_XY: 395343.66100 5199136.32400
SECONDARY_NW_QUAD_XY: 395462.29800 5205863.04400
SECONDARY_NE_QUAD_XY: 400213.95300 5205781.52700
SECONDARY_SE_QUAD_XY: 400097.63600 5198836.31800
SECONDARY_SW_QUAD_XY: 395340.43900 5198917.84700
RMSE_XY: 1.59000
IMAGE_SOURCE: BLACK AND WHITE FILM
SOURCE_IMAGE_ID: NAPP 9486 83
SOURCE_IMAGE_DATE: 1995 08 20
SOURCE_DEM_DATE: 1993 00 00
AGENCY: WESTERN MAPPING CENTER (WMC)
PRODUCER: ANALYTICAL SURVEYS INC.
PRODUCTION_SYSTEM: ORBIT OR_RECTIFY V.5.2
COMPRESSION: UNDEFINED
STANDARD_VERSION: 1996 12
METADATA_DATE: 1999 02 06
DATA_FILE_SIZE: 42859980
BYTE_COUNT: 5580
