FILENAME: O4611206.SES.966163.tif
QUADRANGLE_NAME: WILBORN
QUADRANT: SE
WEST_LONGITUDE: -112 18 45.00000
EAST_LONGITUDE: -112 15 0.00000
NORTH_LATITUDE: 46 56 15.00000
SOUTH_LATITUDE: 46 52 30.00000
PRODUCTION_DATE: 1998 12 28
RASTER_ORDER: LEFT_RIGHT/TOP_BOTTOM
BAND_ORGANIZATION: SINGLE FILE
BAND_CONTENT: BLACK&WHITE
BAND_CONTENT: UNDEFINED
BAND_CONTENT: UNDEFINED
BITS_PER_PIXEL: 8
SAMPLES_AND_LINES: 5580 7650
HORIZONTAL_DATUM: NAD83
HORIZONTAL_COORDINATE_SYSTEM: UTM
COORDINATE_ZONE: 12
HORIZONTAL_UNITS: METERS
HORIZONTAL_RESOLUTION: 1.00000
SECONDARY_HORIZONTAL_DATUM: NAD27
XY_ORIGIN: 399600.00000 5199360.00000
SECONDARY_XY_ORIGIN: 399661.81300 5199146.96300
NATION: US
STATE: MT
NW_QUAD_CORNER_XY: 400100.71000 5199054.79800
NE_QUAD_CORNER_XY: 404857.76800 5198977.06400
SE_QUAD_CORNERY_XY: 404747.10500 5192031.88800
SW_QUAD_CORNER_XY: 399984.51200 5192109.63200
SECONDARY_NW_QUAD_XY: 400097.63600 5198836.31800
SECONDARY_NE_QUAD_XY: 404854.84000 5198758.58200
SECONDARY_SE_QUAD_XY: 404744.17700 5191813.43500
SECONDARY_SW_QUAD_XY: 399981.43800 5191891.18200
RMSE_XY: 3.51000
IMAGE_SOURCE: BLACK AND WHITE FILM
SOURCE_IMAGE_ID: NAPP 9486 219
SOURCE_IMAGE_DATE: 1995 08 20
SOURCE_DEM_DATE: 1993 00 00
AGENCY: WESTERN MAPPING CENTER (WMC)
PRODUCER: ANALYTICAL SURVEYS INC.
PRODUCTION_SYSTEM: ORBIT OR_RECTIFY V.5.2
COMPRESSION: UNDEFINED
STANDARD_VERSION: 1996 12
METADATA_DATE: 1999 02 06
DATA_FILE_SIZE: 42692580
BYTE_COUNT: 5580
