FILENAME: O4611203.NES.965039.tif
QUADRANGLE_NAME: LINCOLN
QUADRANT: NE
WEST_LONGITUDE: -112 41 15.00000
EAST_LONGITUDE: -112 37 30.00000
NORTH_LATITUDE: 47 0 0.00000
SOUTH_LATITUDE: 46 56 15.00000
PRODUCTION_DATE: 1998 12 24
RASTER_ORDER: LEFT_RIGHT/TOP_BOTTOM
BAND_ORGANIZATION: SINGLE FILE
BAND_CONTENT: BLACK&WHITE
BAND_CONTENT: UNDEFINED
BAND_CONTENT: UNDEFINED
BITS_PER_PIXEL: 8
SAMPLES_AND_LINES: 5580 7680
HORIZONTAL_DATUM: NAD83
HORIZONTAL_COORDINATE_SYSTEM: UTM
COORDINATE_ZONE: 12
HORIZONTAL_UNITS: METERS
HORIZONTAL_RESOLUTION: 1.00000
SECONDARY_HORIZONTAL_DATUM: NAD27
XY_ORIGIN: 371190.00000 5206860.00000
SECONDARY_XY_ORIGIN: 371252.68600 5206646.61900
NATION: US
STATE: MT
NW_QUAD_CORNER_XY: 371708.11000 5206546.01700
NE_QUAD_CORNER_XY: 376459.57200 5206445.53700
SE_QUAD_CORNERY_XY: 376315.54800 5199500.36500
SW_QUAD_CORNER_XY: 371558.54300 5199600.86000
SECONDARY_NW_QUAD_XY: 371704.15600 5206327.52500
SECONDARY_NE_QUAD_XY: 376455.76500 5206227.04200
SECONDARY_SE_QUAD_XY: 376311.74100 5199281.89900
SECONDARY_SW_QUAD_XY: 371554.59000 5199382.39700
RMSE_XY: 2.06000
IMAGE_SOURCE: BLACK AND WHITE FILM
SOURCE_IMAGE_ID: NAPP 8386 64
SOURCE_IMAGE_DATE: 1995 08 05
SOURCE_IMAGE_ID: NAPP 8386 66
SOURCE_IMAGE_DATE: 1995 08 05
SOURCE_DEM_DATE: 1998 01 01
AGENCY: WESTERN MAPPING CENTER (WMC)
PRODUCER: ANALYTICAL SURVEYS INC.
PRODUCTION_SYSTEM: ORBIT OR_RECTIFY V.5.2
COMPRESSION: UNDEFINED
STANDARD_VERSION: 1996 12
METADATA_DATE: 1998 12 29
DATA_FILE_SIZE: 42859980
BYTE_COUNT: 5580
