FILENAME: O4611364.NES.1077070.tif
QUADRANGLE_NAME: MOUNT HAGGIN
QUADRANT: NE
WEST_LONGITUDE: -113 3 45.00000
EAST_LONGITUDE: -113 0 0.00000
NORTH_LATITUDE: 46 7 30.00000
SOUTH_LATITUDE: 46 3 45.00000
PRODUCTION_DATE: 2000 4 18
RASTER_ORDER: LEFT_RIGHT/TOP_BOTTOM
BAND_ORGANIZATION: SINGLE FILE
BAND_CONTENT: BLACK&WHITE
BAND_CONTENT: UNDEFINED
BAND_CONTENT: UNDEFINED
BITS_PER_PIXEL: 8
SAMPLES_AND_LINES: 5680 7677
HORIZONTAL_DATUM: NAD83
HORIZONTAL_COORDINATE_SYSTEM: UTM
COORDINATE_ZONE: 12
HORIZONTAL_UNITS: METERS
HORIZONTAL_RESOLUTION: 1.00000
SECONDARY_HORIZONTAL_DATUM: NAD27
XY_ORIGIN: 340107.00000 5110304.00000
SECONDARY_XY_ORIGIN: 340170.40900 5110092.50000
NATION: US
NATION: "SCIENCE
STATE: MT
NW_QUAD_CORNER_XY: 340657.17000 5110003.82500
NE_QUAD_CORNER_XY: 345485.66500 5109880.37700
SE_QUAD_CORNERY_XY: 345310.95300 5102936.24000
SW_QUAD_CORNER_XY: 340476.99400 5103059.69800
SECONDARY_NW_QUAD_XY: 340652.35000 5109785.83400
SECONDARY_NE_QUAD_XY: 345480.99100 5109662.38200
SECONDARY_SE_QUAD_XY: 345306.28000 5102718.28600
SECONDARY_SW_QUAD_XY: 340472.17500 5102841.74700
RMSE_XY: 1.60000
IMAGE_SOURCE: BLACK AND WHITE FILM
SOURCE_IMAGE_ID: NAPP 8402 029
SOURCE_IMAGE_DATE: 1995 09 02
SOURCE_IMAGE_ID: NAPP 8402 007
SOURCE_IMAGE_DATE: 1995 09 02
SOURCE_IMAGE_ID: NAPP 8402 005
SOURCE_IMAGE_DATE: 1995 09 02
SOURCE_IMAGE_ID: NAPP 8402 028
SOURCE_IMAGE_DATE: 1995 09 02
SOURCE_DEM_DATE: 1971 00 00
AGENCY: WESTERN MAPPING CENTER (WMC)
PRODUCER: UNDEFINED
PRODUCTION_SYSTEM: GIS/MAGIC
COMPRESSION: UNDEFINED
STANDARD_VERSION: 1996 12
METADATA_DATE: 2000 05 30
DATA_FILE_SIZE: 43611040
BYTE_COUNT: 5680
