FILENAME: O4611361.SWS.1074878.tif
QUADRANGLE_NAME: CARPP RIDGE
QUADRANT: SW
WEST_LONGITUDE: -113 30 0.00000
EAST_LONGITUDE: -113 26 15.00000
NORTH_LATITUDE: 46 3 45.00000
SOUTH_LATITUDE: 46 0 0.00000
PRODUCTION_DATE: 2000 4 14
RASTER_ORDER: LEFT_RIGHT/TOP_BOTTOM
BAND_ORGANIZATION: SINGLE FILE
BAND_CONTENT: BLACK&WHITE
BAND_CONTENT: UNDEFINED
BAND_CONTENT: UNDEFINED
BITS_PER_PIXEL: 8
SAMPLES_AND_LINES: 5725 7704
HORIZONTAL_DATUM: NAD83
HORIZONTAL_COORDINATE_SYSTEM: UTM
COORDINATE_ZONE: 12
HORIZONTAL_UNITS: METERS
HORIZONTAL_RESOLUTION: 1.00000
SECONDARY_HORIZONTAL_DATUM: NAD27
XY_ORIGIN: 306050.00000 5104331.00000
SECONDARY_XY_ORIGIN: 306114.11300 5104119.43700
NATION: US
NATION: "SCIENCE
STATE: MT
NW_QUAD_CORNER_XY: 306639.48700 5104030.37000
NE_QUAD_CORNER_XY: 311473.39300 5103880.29300
SE_QUAD_CORNERY_XY: 311260.64900 5096936.29500
SW_QUAD_CORNER_XY: 306421.28100 5097086.38400
SECONDARY_NW_QUAD_XY: 306633.64500 5103812.44900
SECONDARY_NE_QUAD_XY: 311467.69700 5103662.36700
SECONDARY_SE_QUAD_XY: 311254.95400 5096718.41100
SECONDARY_SW_QUAD_XY: 306415.44000 5096868.50400
RMSE_XY: 2.90000
IMAGE_SOURCE: BLACK AND WHITE FILM
SOURCE_IMAGE_ID: NAPP 8404 117
SOURCE_IMAGE_DATE: 1995 09 12
SOURCE_IMAGE_ID: NAPP 8404 118
SOURCE_IMAGE_DATE: 1995 09 12
SOURCE_IMAGE_ID: NAPP 8404 109
SOURCE_IMAGE_DATE: 1995 09 12
SOURCE_DEM_DATE: 1997 00 00
AGENCY: WESTERN MAPPING CENTER (WMC)
PRODUCER: UNDEFINED
PRODUCTION_SYSTEM: GIS/MAGIC
COMPRESSION: UNDEFINED
STANDARD_VERSION: 1996 12
METADATA_DATE: 2000 05 25
DATA_FILE_SIZE: 44111125
BYTE_COUNT: 5725
