FILENAME: O4611360.SWS.1074854.tif
QUADRANGLE_NAME: MOOSE LAKE
QUADRANT: SW
WEST_LONGITUDE: -113 37 30.00000
EAST_LONGITUDE: -113 33 45.00000
NORTH_LATITUDE: 46 3 45.00000
SOUTH_LATITUDE: 46 0 0.00000
PRODUCTION_DATE: 2000 4 14
RASTER_ORDER: LEFT_RIGHT/TOP_BOTTOM
BAND_ORGANIZATION: SINGLE FILE
BAND_CONTENT: BLACK&WHITE
BAND_CONTENT: UNDEFINED
BAND_CONTENT: UNDEFINED
BITS_PER_PIXEL: 8
SAMPLES_AND_LINES: 5736 7711
HORIZONTAL_DATUM: NAD83
HORIZONTAL_COORDINATE_SYSTEM: UTM
COORDINATE_ZONE: 12
HORIZONTAL_UNITS: METERS
HORIZONTAL_RESOLUTION: 1.00000
SECONDARY_HORIZONTAL_DATUM: NAD27
XY_ORIGIN: 296371.00000 5104642.00000
SECONDARY_XY_ORIGIN: 296435.23300 5104430.39200
NATION: US
NATION: "SCIENCE
STATE: MT
NW_QUAD_CORNER_XY: 296971.70000 5104341.93600
NE_QUAD_CORNER_XY: 301805.58900 5104184.25100
SE_QUAD_CORNERY_XY: 301581.92100 5097240.27700
SW_QUAD_CORNER_XY: 296742.56900 5097397.97400
SECONDARY_NW_QUAD_XY: 296965.56500 5104124.02400
SECONDARY_NE_QUAD_XY: 301799.60100 5103966.33400
SECONDARY_SE_QUAD_XY: 301575.93500 5097022.40200
SECONDARY_SW_QUAD_XY: 296736.43700 5097180.10400
RMSE_XY: 2.10000
IMAGE_SOURCE: BLACK AND WHITE FILM
SOURCE_IMAGE_ID: NAPP 8389 233
SOURCE_IMAGE_DATE: 1995 07 31
SOURCE_IMAGE_ID: NAPP 8391 243
SOURCE_IMAGE_DATE: 1995 08 01
SOURCE_DEM_DATE: 1997 00 00
AGENCY: WESTERN MAPPING CENTER (WMC)
PRODUCER: UNDEFINED
PRODUCTION_SYSTEM: GIS/MAGIC
COMPRESSION: UNDEFINED
STANDARD_VERSION: 1996 12
METADATA_DATE: 2000 05 25
DATA_FILE_SIZE: 44236032
BYTE_COUNT: 5736
