FILENAME: O4611359.NES.1074827.tif
QUADRANGLE_NAME: WHETSTONE RIDGE
QUADRANT: NE
WEST_LONGITUDE: -113 41 15.00000
EAST_LONGITUDE: -113 37 30.00000
NORTH_LATITUDE: 46 7 30.00000
SOUTH_LATITUDE: 46 3 45.00000
PRODUCTION_DATE: 2000 4 14
RASTER_ORDER: LEFT_RIGHT/TOP_BOTTOM
BAND_ORGANIZATION: SINGLE FILE
BAND_CONTENT: BLACK&WHITE
BAND_CONTENT: UNDEFINED
BAND_CONTENT: UNDEFINED
BITS_PER_PIXEL: 8
SAMPLES_AND_LINES: 5737 7715
HORIZONTAL_DATUM: NAD83
HORIZONTAL_COORDINATE_SYSTEM: UTM
COORDINATE_ZONE: 12
HORIZONTAL_UNITS: METERS
HORIZONTAL_RESOLUTION: 1.00000
SECONDARY_HORIZONTAL_DATUM: NAD27
XY_ORIGIN: 291766.00000 5111748.00000
SECONDARY_XY_ORIGIN: 291830.35900 5111536.31200
NATION: US
NATION: "SCIENCE
STATE: MT
NW_QUAD_CORNER_XY: 292372.66100 5111447.43500
NE_QUAD_CORNER_XY: 297201.07300 5111285.95800
SE_QUAD_CORNERY_XY: 296971.70000 5104341.93600
SW_QUAD_CORNER_XY: 292137.81900 5104503.42600
SECONDARY_NW_QUAD_XY: 292366.37900 5111229.48800
SECONDARY_NE_QUAD_XY: 297194.93700 5111068.00600
SECONDARY_SE_QUAD_XY: 296965.56500 5104124.02400
SECONDARY_SW_QUAD_XY: 292131.53900 5104285.51900
RMSE_XY: 2.00000
IMAGE_SOURCE: BLACK AND WHITE FILM
SOURCE_IMAGE_ID: NAPP 8393 113
SOURCE_IMAGE_DATE: 1995 08 19
SOURCE_IMAGE_ID: NAPP 8393 112
SOURCE_IMAGE_DATE: 1995 08 19
SOURCE_IMAGE_ID: NAPP 8389 234
SOURCE_IMAGE_DATE: 1995 07 31
SOURCE_DEM_DATE: 1997 00 00
AGENCY: WESTERN MAPPING CENTER (WMC)
PRODUCER: UNDEFINED
PRODUCTION_SYSTEM: GIS/MAGIC
COMPRESSION: UNDEFINED
STANDARD_VERSION: 1996 12
METADATA_DATE: 2000 05 25
DATA_FILE_SIZE: 44266692
BYTE_COUNT: 5737
