FILENAME: O4611357.SES.1076854.tif
QUADRANGLE_NAME: BALD TOP MOUNTAIN
QUADRANT: SE
WEST_LONGITUDE: -113 56 15.00000
EAST_LONGITUDE: -113 52 30.00000
NORTH_LATITUDE: 46 3 45.00000
SOUTH_LATITUDE: 46 0 0.00000
PRODUCTION_DATE: 2000 4 18
RASTER_ORDER: LEFT_RIGHT/TOP_BOTTOM
BAND_ORGANIZATION: SINGLE FILE
BAND_CONTENT: BLACK&WHITE
BAND_CONTENT: UNDEFINED
BAND_CONTENT: UNDEFINED
BITS_PER_PIXEL: 8
SAMPLES_AND_LINES: 5765 7730
HORIZONTAL_DATUM: NAD83
HORIZONTAL_COORDINATE_SYSTEM: UTM
COORDINATE_ZONE: 12
HORIZONTAL_UNITS: METERS
HORIZONTAL_RESOLUTION: 1.00000
SECONDARY_HORIZONTAL_DATUM: NAD27
XY_ORIGIN: 272173.00000 5105488.00000
SECONDARY_XY_ORIGIN: 272237.30300 5105276.24200
NATION: US
NATION: "SCIENCE
STATE: MT
NW_QUAD_CORNER_XY: 272802.39100 5105187.44200
NE_QUAD_CORNER_XY: 277636.23300 5105010.72900
SE_QUAD_CORNERY_XY: 277385.24800 5098066.81900
SW_QUAD_CORNER_XY: 272545.94000 5098243.54600
SECONDARY_NW_QUAD_XY: 272795.52600 5104969.55600
SECONDARY_NE_QUAD_XY: 277629.51500 5104792.83800
SECONDARY_SE_QUAD_XY: 277378.53100 5097848.96900
SECONDARY_SW_QUAD_XY: 272539.07700 5098025.70100
RMSE_XY: 2.10000
IMAGE_SOURCE: BLACK AND WHITE FILM
SOURCE_IMAGE_ID: NAPP 8389 085
SOURCE_IMAGE_DATE: 1995 07 31
SOURCE_IMAGE_ID: NAPP 8389 017
SOURCE_IMAGE_DATE: 1995 07 31
SOURCE_IMAGE_ID: NAPP 8389 086
SOURCE_IMAGE_DATE: 1995 07 31
SOURCE_DEM_DATE: 1997 00 00
AGENCY: WESTERN MAPPING CENTER (WMC)
PRODUCER: UNDEFINED
PRODUCTION_SYSTEM: GIS/MAGIC
COMPRESSION: UNDEFINED
STANDARD_VERSION: 1996 12
METADATA_DATE: 2000 05 29
DATA_FILE_SIZE: 44569215
BYTE_COUNT: 5765
