FILENAME: O4611356.NWS.1077062.tif
QUADRANGLE_NAME: WEST VALLEY
QUADRANT: NW
WEST_LONGITUDE: -113 7 30.00000
EAST_LONGITUDE: -113 3 45.00000
NORTH_LATITUDE: 46 15 0.00000
SOUTH_LATITUDE: 46 11 15.00000
PRODUCTION_DATE: 2000 5 26
RASTER_ORDER: LEFT_RIGHT/TOP_BOTTOM
BAND_ORGANIZATION: SINGLE FILE
BAND_CONTENT: BLACK&WHITE
BAND_CONTENT: UNDEFINED
BAND_CONTENT: UNDEFINED
BITS_PER_PIXEL: 8
SAMPLES_AND_LINES: 5675 7681
HORIZONTAL_DATUM: NAD83
HORIZONTAL_COORDINATE_SYSTEM: UTM
COORDINATE_ZONE: 12
HORIZONTAL_UNITS: METERS
HORIZONTAL_RESOLUTION: 1.00000
SECONDARY_HORIZONTAL_DATUM: NAD27
XY_ORIGIN: 335645.00000 5124320.00000
SECONDARY_XY_ORIGIN: 335708.46900 5124108.30300
NATION: US
NATION: "SCIENCE
STATE: MT
NW_QUAD_CORNER_XY: 336200.55300 5124019.50400
NE_QUAD_CORNER_XY: 341018.09400 5123892.27800
SE_QUAD_CORNERY_XY: 340837.53700 5116948.01800
SW_QUAD_CORNER_XY: 336014.52000 5117075.25600
SECONDARY_NW_QUAD_XY: 336195.58400 5123801.43800
SECONDARY_NE_QUAD_XY: 341013.27200 5123674.20800
SECONDARY_SE_QUAD_XY: 340832.71500 5116729.98700
SECONDARY_SW_QUAD_XY: 336009.55200 5116857.22900
RMSE_XY: 2.90000
IMAGE_SOURCE: BLACK AND WHITE FILM
SOURCE_IMAGE_ID: NAPP 8402 002
SOURCE_IMAGE_DATE: 1995 09 02
SOURCE_IMAGE_ID: NAPP 8402 001
SOURCE_IMAGE_DATE: 1995 09 02
SOURCE_IMAGE_ID: NAPP 8402 033
SOURCE_IMAGE_DATE: 1995 09 02
SOURCE_DEM_DATE: 1971 00 00
AGENCY: WESTERN MAPPING CENTER (WMC)
PRODUCER: UNDEFINED
PRODUCTION_SYSTEM: GIS/MAGIC
COMPRESSION: UNDEFINED
STANDARD_VERSION: 1996 12
METADATA_DATE: 2000 05 30
DATA_FILE_SIZE: 43595350
BYTE_COUNT: 5675
