FILENAME: O4611350.SWS.1074798.tif
QUADRANGLE_NAME: SKALKAHO PASS
QUADRANT: SW
WEST_LONGITUDE: -113 52 30.00000
EAST_LONGITUDE: -113 48 45.00000
NORTH_LATITUDE: 46 11 15.00000
SOUTH_LATITUDE: 46 7 30.00000
PRODUCTION_DATE: 2000 4 14
RASTER_ORDER: LEFT_RIGHT/TOP_BOTTOM
BAND_ORGANIZATION: SINGLE FILE
BAND_CONTENT: BLACK&WHITE
BAND_CONTENT: UNDEFINED
BAND_CONTENT: UNDEFINED
BITS_PER_PIXEL: 8
SAMPLES_AND_LINES: 5748 7726
HORIZONTAL_DATUM: NAD83
HORIZONTAL_COORDINATE_SYSTEM: UTM
COORDINATE_ZONE: 12
HORIZONTAL_UNITS: METERS
HORIZONTAL_RESOLUTION: 1.00000
SECONDARY_HORIZONTAL_DATUM: NAD27
XY_ORIGIN: 277515.00000 5119199.00000
SECONDARY_XY_ORIGIN: 277579.47500 5118987.15500
NATION: US
NATION: "SCIENCE
STATE: MT
NW_QUAD_CORNER_XY: 278139.00200 5118898.72100
NE_QUAD_CORNER_XY: 282961.90800 5118725.84300
SE_QUAD_CORNERY_XY: 282715.86700 5111781.80400
SW_QUAD_CORNER_XY: 277887.48500 5111954.69600
SECONDARY_NW_QUAD_XY: 278132.28000 5118680.74900
SECONDARY_NE_QUAD_XY: 282955.33300 5118507.86600
SECONDARY_SE_QUAD_XY: 282709.29300 5111563.86700
SECONDARY_SW_QUAD_XY: 277880.76500 5111736.76400
RMSE_XY: 3.10000
IMAGE_SOURCE: BLACK AND WHITE FILM
SOURCE_IMAGE_ID: NAPP 8393 028
SOURCE_IMAGE_DATE: 1995 08 19
SOURCE_IMAGE_ID: NAPP 8389 082
SOURCE_IMAGE_DATE: 1995 07 31
SOURCE_IMAGE_ID: NAPP 8389 080
SOURCE_IMAGE_DATE: 1995 07 31
SOURCE_IMAGE_ID: NAPP 8404 154
SOURCE_IMAGE_DATE: 1995 09 12
SOURCE_DEM_DATE: 1997 00 00
AGENCY: WESTERN MAPPING CENTER (WMC)
PRODUCER: UNDEFINED
PRODUCTION_SYSTEM: GIS/MAGIC
COMPRESSION: UNDEFINED
STANDARD_VERSION: 1996 12
METADATA_DATE: 2000 05 25
DATA_FILE_SIZE: 44414796
BYTE_COUNT: 5748
