FILENAME: O4611345.NWS.1074868.tif
QUADRANGLE_NAME: ANTELOPE CREEK
QUADRANT: NW
WEST_LONGITUDE: -113 30 0.00000
EAST_LONGITUDE: -113 26 15.00000
NORTH_LATITUDE: 46 22 30.00000
SOUTH_LATITUDE: 46 18 45.00000
PRODUCTION_DATE: 2000 4 27
RASTER_ORDER: LEFT_RIGHT/TOP_BOTTOM
BAND_ORGANIZATION: SINGLE FILE
BAND_CONTENT: BLACK&WHITE
BAND_CONTENT: UNDEFINED
BAND_CONTENT: UNDEFINED
BITS_PER_PIXEL: 8
SAMPLES_AND_LINES: 5699 7704
HORIZONTAL_DATUM: NAD83
HORIZONTAL_COORDINATE_SYSTEM: UTM
COORDINATE_ZONE: 12
HORIZONTAL_UNITS: METERS
HORIZONTAL_RESOLUTION: 1.00000
SECONDARY_HORIZONTAL_DATUM: NAD27
XY_ORIGIN: 307143.00000 5139052.00000
SECONDARY_XY_ORIGIN: 307207.43400 5138840.09000
NATION: US
NATION: "SCIENCE
STATE: MT
NW_QUAD_CORNER_XY: 307733.98100 5138751.22700
NE_QUAD_CORNER_XY: 312540.49300 5138601.21800
SE_QUAD_CORNERY_XY: 312326.62300 5131656.90800
SW_QUAD_CORNER_XY: 307514.62100 5131806.93200
SECONDARY_NW_QUAD_XY: 307728.13300 5138533.11100
SECONDARY_NE_QUAD_XY: 312534.79100 5138383.09800
SECONDARY_SE_QUAD_XY: 312320.92300 5131438.82500
SECONDARY_SW_QUAD_XY: 307508.77400 5131588.85300
RMSE_XY: 2.00000
IMAGE_SOURCE: BLACK AND WHITE FILM
SOURCE_IMAGE_ID: NAPP 8390 086
SOURCE_IMAGE_DATE: 1995 07 31
SOURCE_IMAGE_ID: NAPP 8391 233
SOURCE_IMAGE_DATE: 1995 08 01
SOURCE_IMAGE_ID: NAPP 8391 231
SOURCE_IMAGE_DATE: 1995 08 01
SOURCE_IMAGE_ID: NAPP 8390 087
SOURCE_IMAGE_DATE: 1995 07 31
SOURCE_IMAGE_ID: NAPP 8390 085
SOURCE_IMAGE_DATE: 1995 07 31
SOURCE_DEM_DATE: 1998 00 00
AGENCY: WESTERN MAPPING CENTER (WMC)
PRODUCER: UNDEFINED
PRODUCTION_SYSTEM: GIS/MAGIC
COMPRESSION: UNDEFINED
STANDARD_VERSION: 1996 12
METADATA_DATE: 2000 05 25
DATA_FILE_SIZE: 43910795
BYTE_COUNT: 5699
