FILENAME: O4611343.SES.1074821.tif
QUADRANGLE_NAME: STONY CREEK
QUADRANT: SE
WEST_LONGITUDE: -113 41 15.00000
EAST_LONGITUDE: -113 37 30.00000
NORTH_LATITUDE: 46 18 45.00000
SOUTH_LATITUDE: 46 15 0.00000
PRODUCTION_DATE: 2000 4 25
RASTER_ORDER: LEFT_RIGHT/TOP_BOTTOM
BAND_ORGANIZATION: SINGLE FILE
BAND_CONTENT: BLACK&WHITE
BAND_CONTENT: UNDEFINED
BAND_CONTENT: UNDEFINED
BITS_PER_PIXEL: 8
SAMPLES_AND_LINES: 5721 7715
HORIZONTAL_DATUM: NAD83
HORIZONTAL_COORDINATE_SYSTEM: UTM
COORDINATE_ZONE: 12
HORIZONTAL_UNITS: METERS
HORIZONTAL_RESOLUTION: 1.00000
SECONDARY_HORIZONTAL_DATUM: NAD27
XY_ORIGIN: 292471.00000 5132580.00000
SECONDARY_XY_ORIGIN: 292535.59000 5132368.12300
NATION: US
NATION: "SCIENCE
STATE: MT
NW_QUAD_CORNER_XY: 293078.67600 5132279.82000
NE_QUAD_CORNER_XY: 297890.64700 5132118.38700
SE_QUAD_CORNERY_XY: 297660.54700 5125174.18400
SW_QUAD_CORNER_XY: 292843.09000 5125335.63200
SECONDARY_NW_QUAD_XY: 293072.39100 5132061.75600
SECONDARY_NE_QUAD_XY: 297884.50800 5131900.31800
SECONDARY_SE_QUAD_XY: 297654.40900 5124956.15300
SECONDARY_SW_QUAD_XY: 292836.80600 5125117.60600
RMSE_XY: 3.00000
IMAGE_SOURCE: BLACK AND WHITE FILM
SOURCE_IMAGE_ID: NAPP 8393 119
SOURCE_IMAGE_DATE: 1995 08 19
SOURCE_IMAGE_ID: NAPP 8389 129
SOURCE_IMAGE_DATE: 1995 07 31
SOURCE_IMAGE_ID: NAPP 8393 120
SOURCE_IMAGE_DATE: 1995 08 19
SOURCE_DEM_DATE: 1997 00 00
AGENCY: WESTERN MAPPING CENTER (WMC)
PRODUCER: UNDEFINED
PRODUCTION_SYSTEM: GIS/MAGIC
COMPRESSION: UNDEFINED
STANDARD_VERSION: 1996 12
METADATA_DATE: 2000 05 25
DATA_FILE_SIZE: 44143236
BYTE_COUNT: 5721
