FILENAME: O4611342.SWS.1074794.tif
QUADRANGLE_NAME: BURNT FORK LAKE
QUADRANT: SW
WEST_LONGITUDE: -113 52 30.00000
EAST_LONGITUDE: -113 48 45.00000
NORTH_LATITUDE: 46 18 45.00000
SOUTH_LATITUDE: 46 15 0.00000
PRODUCTION_DATE: 2000 4 14
RASTER_ORDER: LEFT_RIGHT/TOP_BOTTOM
BAND_ORGANIZATION: SINGLE FILE
BAND_CONTENT: BLACK&WHITE
BAND_CONTENT: UNDEFINED
BAND_CONTENT: UNDEFINED
BITS_PER_PIXEL: 8
SAMPLES_AND_LINES: 5738 7726
HORIZONTAL_DATUM: NAD83
HORIZONTAL_COORDINATE_SYSTEM: UTM
COORDINATE_ZONE: 12
HORIZONTAL_UNITS: METERS
HORIZONTAL_RESOLUTION: 1.00000
SECONDARY_HORIZONTAL_DATUM: NAD27
XY_ORIGIN: 278018.00000 5133087.00000
SECONDARY_XY_ORIGIN: 278082.66900 5132875.02200
NATION: US
NATION: "SCIENCE
STATE: MT
NW_QUAD_CORNER_XY: 278642.83200 5132786.94100
NE_QUAD_CORNER_XY: 283454.76800 5132614.09600
SE_QUAD_CORNERY_XY: 283208.20800 5125669.94100
SW_QUAD_CORNER_XY: 278390.78400 5125842.80200
SECONDARY_NW_QUAD_XY: 278636.10800 5132568.89200
SECONDARY_NE_QUAD_XY: 283448.19100 5132396.04200
SECONDARY_SE_QUAD_XY: 283201.63200 5125451.92500
SECONDARY_SW_QUAD_XY: 278384.06200 5125624.79200
RMSE_XY: 2.60000
IMAGE_SOURCE: BLACK AND WHITE FILM
SOURCE_IMAGE_ID: NAPP 8393 024
SOURCE_IMAGE_DATE: 1995 08 19
SOURCE_IMAGE_ID: NAPP 8389 077
SOURCE_IMAGE_DATE: 1995 07 31
SOURCE_IMAGE_ID: NAPP 8393 025
SOURCE_IMAGE_DATE: 1995 08 19
SOURCE_IMAGE_ID: NAPP 8393 023
SOURCE_IMAGE_DATE: 1995 08 19
SOURCE_DEM_DATE: 1965 00 00
AGENCY: WESTERN MAPPING CENTER (WMC)
PRODUCER: UNDEFINED
PRODUCTION_SYSTEM: GIS/MAGIC
COMPRESSION: UNDEFINED
STANDARD_VERSION: 1996 12
METADATA_DATE: 2000 05 25
DATA_FILE_SIZE: 44337526
BYTE_COUNT: 5738
