FILENAME: O4611339.SES.1077034.tif
QUADRANGLE_NAME: MAXVILLE
QUADRANT: SE
WEST_LONGITUDE: -113 11 15.00000
EAST_LONGITUDE: -113 7 30.00000
NORTH_LATITUDE: 46 26 15.00000
SOUTH_LATITUDE: 46 22 30.00000
PRODUCTION_DATE: 2000 5 1
RASTER_ORDER: LEFT_RIGHT/TOP_BOTTOM
BAND_ORGANIZATION: SINGLE FILE
BAND_CONTENT: BLACK&WHITE
BAND_CONTENT: UNDEFINED
BAND_CONTENT: UNDEFINED
BITS_PER_PIXEL: 8
SAMPLES_AND_LINES: 5665 7685
HORIZONTAL_DATUM: NAD83
HORIZONTAL_COORDINATE_SYSTEM: UTM
COORDINATE_ZONE: 12
HORIZONTAL_UNITS: METERS
HORIZONTAL_RESOLUTION: 1.00000
SECONDARY_HORIZONTAL_DATUM: NAD27
XY_ORIGIN: 331396.00000 5145284.00000
SECONDARY_XY_ORIGIN: 331459.81400 5145072.05100
NATION: US
NATION: "SCIENCE
STATE: MT
NW_QUAD_CORNER_XY: 331958.76000 5144983.63200
NE_QUAD_CORNER_XY: 336759.82900 5144852.64300
SE_QUAD_CORNERY_XY: 336573.20800 5137908.19800
SW_QUAD_CORNER_XY: 331766.64600 5138039.20000
SECONDARY_NW_QUAD_XY: 331953.64300 5144765.45800
SECONDARY_NE_QUAD_XY: 336754.85700 5144634.46600
SECONDARY_SE_QUAD_XY: 336568.23700 5137690.05700
SECONDARY_SW_QUAD_XY: 331761.52900 5137821.06300
RMSE_XY: 2.50000
IMAGE_SOURCE: BLACK AND WHITE FILM
SOURCE_IMAGE_ID: NAPP 8393 287
SOURCE_IMAGE_DATE: 1995 08 19
SOURCE_DEM_DATE: 1997 00 00
AGENCY: WESTERN MAPPING CENTER (WMC)
PRODUCER: UNDEFINED
PRODUCTION_SYSTEM: GIS/MAGIC
COMPRESSION: UNDEFINED
STANDARD_VERSION: 1996 12
METADATA_DATE: 2000 05 30
DATA_FILE_SIZE: 43541190
BYTE_COUNT: 5665
