FILENAME: O4611338.NES.1076993.tif
QUADRANGLE_NAME: HENDERSON MOUNTAIN
QUADRANT: NE
WEST_LONGITUDE: -113 18 45.00000
EAST_LONGITUDE: -113 15 0.00000
NORTH_LATITUDE: 46 30 0.00000
SOUTH_LATITUDE: 46 26 15.00000
PRODUCTION_DATE: 2000 5 1
RASTER_ORDER: LEFT_RIGHT/TOP_BOTTOM
BAND_ORGANIZATION: SINGLE FILE
BAND_CONTENT: BLACK&WHITE
BAND_CONTENT: UNDEFINED
BAND_CONTENT: UNDEFINED
BITS_PER_PIXEL: 8
SAMPLES_AND_LINES: 5671 7692
HORIZONTAL_DATUM: NAD83
HORIZONTAL_COORDINATE_SYSTEM: UTM
COORDINATE_ZONE: 12
HORIZONTAL_UNITS: METERS
HORIZONTAL_RESOLUTION: 1.00000
SECONDARY_HORIZONTAL_DATUM: NAD27
XY_ORIGIN: 321986.00000 5152502.00000
SECONDARY_XY_ORIGIN: 322050.16500 5152289.94200
NATION: US
NATION: "SCIENCE
STATE: MT
NW_QUAD_CORNER_XY: 322559.96900 5152201.47600
NE_QUAD_CORNER_XY: 327355.51800 5152062.90300
SE_QUAD_CORNERY_XY: 327157.70200 5145118.42000
SW_QUAD_CORNER_XY: 322356.65300 5145257.01000
SECONDARY_NW_QUAD_XY: 322554.55800 5151983.27600
SECONDARY_NE_QUAD_XY: 327350.25300 5151844.69700
SECONDARY_SE_QUAD_XY: 327152.43800 5144900.25100
SECONDARY_SW_QUAD_XY: 322351.24300 5145038.84400
RMSE_XY: 3.20000
IMAGE_SOURCE: BLACK AND WHITE FILM
SOURCE_IMAGE_ID: NAPP 8391 169
SOURCE_IMAGE_DATE: 1995 08 01
SOURCE_IMAGE_ID: NAPP 8391 170
SOURCE_IMAGE_DATE: 1995 08 01
SOURCE_DEM_DATE: 1988 00 00
AGENCY: WESTERN MAPPING CENTER (WMC)
PRODUCER: UNDEFINED
PRODUCTION_SYSTEM: GIS/MAGIC
COMPRESSION: UNDEFINED
STANDARD_VERSION: 1996 12
METADATA_DATE: 2000 05 30
DATA_FILE_SIZE: 43627003
BYTE_COUNT: 5671
