FILENAME: O4611338.NWS.1076995.tif
QUADRANGLE_NAME: HENDERSON MOUNTAIN
QUADRANT: NW
WEST_LONGITUDE: -113 22 30.00000
EAST_LONGITUDE: -113 18 45.00000
NORTH_LATITUDE: 46 30 0.00000
SOUTH_LATITUDE: 46 26 15.00000
PRODUCTION_DATE: 2000 5 1
RASTER_ORDER: LEFT_RIGHT/TOP_BOTTOM
BAND_ORGANIZATION: SINGLE FILE
BAND_CONTENT: BLACK&WHITE
BAND_CONTENT: UNDEFINED
BAND_CONTENT: UNDEFINED
BITS_PER_PIXEL: 8
SAMPLES_AND_LINES: 5677 7696
HORIZONTAL_DATUM: NAD83
HORIZONTAL_COORDINATE_SYSTEM: UTM
COORDINATE_ZONE: 12
HORIZONTAL_UNITS: METERS
HORIZONTAL_RESOLUTION: 1.00000
SECONDARY_HORIZONTAL_DATUM: NAD27
XY_ORIGIN: 317184.00000 5152644.00000
SECONDARY_XY_ORIGIN: 317248.31100 5152431.93700
NATION: US
NATION: "SCIENCE
STATE: MT
NW_QUAD_CORNER_XY: 317764.43200 5152343.85100
NE_QUAD_CORNER_XY: 322559.96900 5152201.47600
SE_QUAD_CORNERY_XY: 322356.65300 5145257.01000
SW_QUAD_CORNER_XY: 317555.61500 5145399.39900
SECONDARY_NW_QUAD_XY: 317758.87400 5152125.65400
SECONDARY_NE_QUAD_XY: 322554.55800 5151983.27600
SECONDARY_SE_QUAD_XY: 322351.24300 5145038.84400
SECONDARY_SW_QUAD_XY: 317550.05800 5145181.23900
RMSE_XY: 2.30000
IMAGE_SOURCE: BLACK AND WHITE FILM
SOURCE_IMAGE_ID: NAPP 8390 047
SOURCE_IMAGE_DATE: 1995 07 31
SOURCE_IMAGE_ID: NAPP 8390 023
SOURCE_IMAGE_DATE: 1995 07 31
SOURCE_IMAGE_ID: NAPP 8390 046
SOURCE_IMAGE_DATE: 1995 07 31
SOURCE_IMAGE_ID: NAPP 8390 048
SOURCE_IMAGE_DATE: 1995 07 31
SOURCE_IMAGE_ID: NAPP 8391 168
SOURCE_IMAGE_DATE: 1995 08 01
SOURCE_DEM_DATE: 1988 00 00
AGENCY: WESTERN MAPPING CENTER (WMC)
PRODUCER: UNDEFINED
PRODUCTION_SYSTEM: GIS/MAGIC
COMPRESSION: UNDEFINED
STANDARD_VERSION: 1996 12
METADATA_DATE: 2000 05 30
DATA_FILE_SIZE: 43695869
BYTE_COUNT: 5677
