FILENAME: O4611336.SWS.1074866.tif
QUADRANGLE_NAME: ALDER GULCH
QUADRANT: SW
WEST_LONGITUDE: -113 37 30.00000
EAST_LONGITUDE: -113 33 45.00000
NORTH_LATITUDE: 46 26 15.00000
SOUTH_LATITUDE: 46 22 30.00000
PRODUCTION_DATE: 2000 5 1
RASTER_ORDER: LEFT_RIGHT/TOP_BOTTOM
BAND_ORGANIZATION: SINGLE FILE
BAND_CONTENT: BLACK&WHITE
BAND_CONTENT: UNDEFINED
BAND_CONTENT: UNDEFINED
BITS_PER_PIXEL: 8
SAMPLES_AND_LINES: 5705 7711
HORIZONTAL_DATUM: NAD83
HORIZONTAL_COORDINATE_SYSTEM: UTM
COORDINATE_ZONE: 12
HORIZONTAL_UNITS: METERS
HORIZONTAL_RESOLUTION: 1.00000
SECONDARY_HORIZONTAL_DATUM: NAD27
XY_ORIGIN: 297749.00000 5146307.00000
SECONDARY_XY_ORIGIN: 297813.69900 5146094.98200
NATION: US
NATION: "SCIENCE
STATE: MT
NW_QUAD_CORNER_XY: 298351.57300 5146006.97400
NE_QUAD_CORNER_XY: 303152.56600 5145849.37800
SE_QUAD_CORNERY_XY: 302927.47900 5138905.03700
SW_QUAD_CORNER_XY: 298120.98900 5139062.65100
SECONDARY_NW_QUAD_XY: 298345.43100 5145788.83200
SECONDARY_NE_QUAD_XY: 303146.57100 5145631.23100
SECONDARY_SE_QUAD_XY: 302921.48500 5138686.92600
SECONDARY_SW_QUAD_XY: 298114.84900 5138844.54400
RMSE_XY: 5.20000
IMAGE_SOURCE: BLACK AND WHITE FILM
SOURCE_IMAGE_ID: NAPP 8389 246
SOURCE_IMAGE_DATE: 1995 07 31
SOURCE_IMAGE_ID: NAPP 8393 122
SOURCE_IMAGE_DATE: 1995 08 19
SOURCE_IMAGE_ID: NAPP 8393 123
SOURCE_IMAGE_DATE: 1995 08 19
SOURCE_IMAGE_ID: NAPP 8393 124
SOURCE_IMAGE_DATE: 1995 08 19
SOURCE_IMAGE_ID: NAPP 8389 244
SOURCE_IMAGE_DATE: 1995 07 31
SOURCE_DEM_DATE: 1988 00 00
AGENCY: WESTERN MAPPING CENTER (WMC)
PRODUCER: UNDEFINED
PRODUCTION_SYSTEM: GIS/MAGIC
COMPRESSION: UNDEFINED
STANDARD_VERSION: 1996 12
METADATA_DATE: 2000 05 25
DATA_FILE_SIZE: 43996960
BYTE_COUNT: 5705
