FILENAME: O4611335.NWS.1074840.tif
QUADRANGLE_NAME: QUIGG PEAK
QUADRANT: NW
WEST_LONGITUDE: -113 45 0.00000
EAST_LONGITUDE: -113 41 15.00000
NORTH_LATITUDE: 46 30 0.00000
SOUTH_LATITUDE: 46 26 15.00000
PRODUCTION_DATE: 2000 4 25
RASTER_ORDER: LEFT_RIGHT/TOP_BOTTOM
BAND_ORGANIZATION: SINGLE FILE
BAND_CONTENT: BLACK&WHITE
BAND_CONTENT: UNDEFINED
BAND_CONTENT: UNDEFINED
BITS_PER_PIXEL: 8
SAMPLES_AND_LINES: 5711 7718
HORIZONTAL_DATUM: NAD83
HORIZONTAL_COORDINATE_SYSTEM: UTM
COORDINATE_ZONE: 12
HORIZONTAL_UNITS: METERS
HORIZONTAL_RESOLUTION: 1.00000
SECONDARY_HORIZONTAL_DATUM: NAD27
XY_ORIGIN: 288377.00000 5153578.00000
SECONDARY_XY_ORIGIN: 288441.99200 5153365.88300
NATION: US
NATION: "SCIENCE
STATE: MT
NW_QUAD_CORNER_XY: 288991.45400 5153277.92400
NE_QUAD_CORNER_XY: 293786.92000 5153112.74000
SE_QUAD_CORNERY_XY: 293550.59100 5146168.37400
SW_QUAD_CORNER_XY: 288749.62200 5146333.57600
SECONDARY_NW_QUAD_XY: 288985.01900 5153059.75600
SECONDARY_NE_QUAD_XY: 293780.63100 5152894.56700
SECONDARY_SE_QUAD_XY: 293544.30300 5145950.23600
SECONDARY_SW_QUAD_XY: 288743.18800 5146115.44300
RMSE_XY: 3.40000
IMAGE_SOURCE: BLACK AND WHITE FILM
SOURCE_IMAGE_ID: NAPP 8389 134
SOURCE_IMAGE_DATE: 1995 07 31
SOURCE_IMAGE_ID: NAPP 8389 168
SOURCE_IMAGE_DATE: 1995 07 31
SOURCE_IMAGE_ID: NAPP 8389 133
SOURCE_IMAGE_DATE: 1995 07 31
SOURCE_IMAGE_ID: NAPP 8389 135
SOURCE_IMAGE_DATE: 1995 07 31
SOURCE_IMAGE_ID: NAPP 8393 126
SOURCE_IMAGE_DATE: 1995 08 19
SOURCE_DEM_DATE: 1975 00 00
AGENCY: WESTERN MAPPING CENTER (WMC)
PRODUCER: UNDEFINED
PRODUCTION_SYSTEM: GIS/MAGIC
COMPRESSION: UNDEFINED
STANDARD_VERSION: 1996 12
METADATA_DATE: 2000 05 25
DATA_FILE_SIZE: 44083209
BYTE_COUNT: 5711
