FILENAME: O4611332.NES.1077099.tif
QUADRANGLE_NAME: DUNKLEBERG CREEK
QUADRANT: NE
WEST_LONGITUDE: -113 3 45.00000
EAST_LONGITUDE: -113 0 0.00000
NORTH_LATITUDE: 46 37 30.00000
SOUTH_LATITUDE: 46 33 45.00000
PRODUCTION_DATE: 2000 5 26
RASTER_ORDER: LEFT_RIGHT/TOP_BOTTOM
BAND_ORGANIZATION: SINGLE FILE
BAND_CONTENT: BLACK&WHITE
BAND_CONTENT: UNDEFINED
BAND_CONTENT: UNDEFINED
BITS_PER_PIXEL: 8
SAMPLES_AND_LINES: 5638 7677
HORIZONTAL_DATUM: NAD83
HORIZONTAL_COORDINATE_SYSTEM: UTM
COORDINATE_ZONE: 12
HORIZONTAL_UNITS: METERS
HORIZONTAL_RESOLUTION: 1.00000
SECONDARY_HORIZONTAL_DATUM: NAD27
XY_ORIGIN: 341554.00000 5165860.00000
SECONDARY_XY_ORIGIN: 341617.61000 5165647.67000
NATION: US
NATION: "SCIENCE
STATE: MT
NW_QUAD_CORNER_XY: 342105.42800 5165559.23000
NE_QUAD_CORNER_XY: 346890.00200 5165435.88400
SE_QUAD_CORNERY_XY: 346713.81600 5158491.21100
SW_QUAD_CORNER_XY: 341923.73200 5158614.57200
SECONDARY_NW_QUAD_XY: 342100.60000 5165340.94500
SECONDARY_NE_QUAD_XY: 346885.32100 5165217.59400
SECONDARY_SE_QUAD_XY: 346709.13500 5158272.95600
SECONDARY_SW_QUAD_XY: 341918.90500 5158396.32000
RMSE_XY: 2.10000
IMAGE_SOURCE: BLACK AND WHITE FILM
SOURCE_IMAGE_ID: NAPP 9489 005
SOURCE_IMAGE_DATE: 1995 08 28
SOURCE_IMAGE_ID: NAPP 8398 179
SOURCE_IMAGE_DATE: 1995 08 28
SOURCE_IMAGE_ID: NAPP 8399 042
SOURCE_IMAGE_DATE: 1995 08 28
SOURCE_IMAGE_ID: NAPP 8399 041
SOURCE_IMAGE_DATE: 1995 08 28
SOURCE_IMAGE_ID: NAPP 8399 039
SOURCE_IMAGE_DATE: 1995 08 28
SOURCE_DEM_DATE: 1988 00 00
AGENCY: WESTERN MAPPING CENTER (WMC)
PRODUCER: UNDEFINED
PRODUCTION_SYSTEM: GIS/MAGIC
COMPRESSION: UNDEFINED
STANDARD_VERSION: 1996 12
METADATA_DATE: 2000 05 30
DATA_FILE_SIZE: 43288564
BYTE_COUNT: 5638
