FILENAME: O4611327.NES.1074835.tif
QUADRANGLE_NAME: GRIZZLY POINT
QUADRANT: NE
WEST_LONGITUDE: -113 41 15.00000
EAST_LONGITUDE: -113 37 30.00000
NORTH_LATITUDE: 46 37 30.00000
SOUTH_LATITUDE: 46 33 45.00000
PRODUCTION_DATE: 2000 4 25
RASTER_ORDER: LEFT_RIGHT/TOP_BOTTOM
BAND_ORGANIZATION: SINGLE FILE
BAND_CONTENT: BLACK&WHITE
BAND_CONTENT: UNDEFINED
BAND_CONTENT: UNDEFINED
BITS_PER_PIXEL: 8
SAMPLES_AND_LINES: 5695 7715
HORIZONTAL_DATUM: NAD83
HORIZONTAL_COORDINATE_SYSTEM: UTM
COORDINATE_ZONE: 12
HORIZONTAL_UNITS: METERS
HORIZONTAL_RESOLUTION: 1.00000
SECONDARY_HORIZONTAL_DATUM: NAD27
XY_ORIGIN: 293651.00000 5167302.00000
SECONDARY_XY_ORIGIN: 293715.89900 5167089.61700
NATION: US
NATION: "SCIENCE
STATE: MT
NW_QUAD_CORNER_XY: 294260.31700 5167001.65100
NE_QUAD_CORNER_XY: 299044.77100 5166840.30800
SE_QUAD_CORNERY_XY: 298813.46400 5159895.80300
SW_QUAD_CORNER_XY: 294023.49500 5160057.16600
SECONDARY_NW_QUAD_XY: 294254.02500 5166783.41000
SECONDARY_NE_QUAD_XY: 299038.62600 5166622.06100
SECONDARY_SE_QUAD_XY: 298807.32000 5159677.59000
SECONDARY_SW_QUAD_XY: 294017.20500 5159838.95800
RMSE_XY: 2.30000
IMAGE_SOURCE: BLACK AND WHITE FILM
SOURCE_IMAGE_ID: NAPP 8393 129
SOURCE_IMAGE_DATE: 1995 08 19
SOURCE_IMAGE_ID: NAPP 8393 128
SOURCE_IMAGE_DATE: 1995 08 19
SOURCE_IMAGE_ID: NAPP 8393 130
SOURCE_IMAGE_DATE: 1995 08 19
SOURCE_DEM_DATE: 2000 01 01
AGENCY: WESTERN MAPPING CENTER (WMC)
PRODUCER: UNDEFINED
PRODUCTION_SYSTEM: GIS/MAGIC
COMPRESSION: UNDEFINED
STANDARD_VERSION: 1996 12
METADATA_DATE: 2000 05 25
DATA_FILE_SIZE: 43942620
BYTE_COUNT: 5695
