FILENAME: O4611325.SES.1074765.tif
QUADRANGLE_NAME: GRAYHORSE CREEK
QUADRANT: SE
WEST_LONGITUDE: -113 56 15.00000
EAST_LONGITUDE: -113 52 30.00000
NORTH_LATITUDE: 46 33 45.00000
SOUTH_LATITUDE: 46 30 0.00000
PRODUCTION_DATE: 2000 3 9
RASTER_ORDER: LEFT_RIGHT/TOP_BOTTOM
BAND_ORGANIZATION: SINGLE FILE
BAND_CONTENT: BLACK&WHITE
BAND_CONTENT: UNDEFINED
BAND_CONTENT: UNDEFINED
BITS_PER_PIXEL: 8
SAMPLES_AND_LINES: 5723 7730
HORIZONTAL_DATUM: NAD83
HORIZONTAL_COORDINATE_SYSTEM: UTM
COORDINATE_ZONE: 12
HORIZONTAL_UNITS: METERS
HORIZONTAL_RESOLUTION: 1.00000
SECONDARY_HORIZONTAL_DATUM: NAD27
XY_ORIGIN: 274232.00000 5161041.00000
SECONDARY_XY_ORIGIN: 274297.06800 5160828.69000
NATION: US
NATION: "SCIENCE
STATE: MT
NW_QUAD_CORNER_XY: 274863.75400 5160740.64000
NE_QUAD_CORNER_XY: 279653.66800 5160564.06700
SE_QUAD_CORNERY_XY: 279400.56300 5153619.70000
SW_QUAD_CORNER_XY: 274605.13800 5153796.29300
SECONDARY_NW_QUAD_XY: 274856.87800 5160522.45300
SECONDARY_NE_QUAD_XY: 279646.93900 5160345.87500
SECONDARY_SE_QUAD_XY: 279393.83500 5153401.54200
SECONDARY_SW_QUAD_XY: 274598.26300 5153578.14100
RMSE_XY: 1.70000
IMAGE_SOURCE: BLACK AND WHITE FILM
SOURCE_IMAGE_ID: NAPP 8389 069
SOURCE_IMAGE_DATE: 1995 07 31
SOURCE_IMAGE_ID: NAPP 8389 033
SOURCE_IMAGE_DATE: 1995 07 31
SOURCE_IMAGE_ID: NAPP 8389 068
SOURCE_IMAGE_DATE: 1995 07 31
SOURCE_DEM_DATE: 1984 00 00
AGENCY: WESTERN MAPPING CENTER (WMC)
PRODUCER: UNDEFINED
PRODUCTION_SYSTEM: GIS/MAGIC
COMPRESSION: UNDEFINED
STANDARD_VERSION: 1996 12
METADATA_DATE: 2000 05 20
DATA_FILE_SIZE: 44244513
BYTE_COUNT: 5723
