FILENAME: O4611322.NES.1077008.tif
QUADRANGLE_NAME: BEARMOUTH
QUADRANT: NE
WEST_LONGITUDE: -113 18 45.00000
EAST_LONGITUDE: -113 15 0.00000
NORTH_LATITUDE: 46 45 0.00000
SOUTH_LATITUDE: 46 41 15.00000
PRODUCTION_DATE: 2000 5 1
RASTER_ORDER: LEFT_RIGHT/TOP_BOTTOM
BAND_ORGANIZATION: SINGLE FILE
BAND_CONTENT: BLACK&WHITE
BAND_CONTENT: UNDEFINED
BAND_CONTENT: UNDEFINED
BITS_PER_PIXEL: 8
SAMPLES_AND_LINES: 5650 7692
HORIZONTAL_DATUM: NAD83
HORIZONTAL_COORDINATE_SYSTEM: UTM
COORDINATE_ZONE: 12
HORIZONTAL_UNITS: METERS
HORIZONTAL_RESOLUTION: 1.00000
SECONDARY_HORIZONTAL_DATUM: NAD27
XY_ORIGIN: 322800.00000 5180280.00000
SECONDARY_XY_ORIGIN: 322864.18700 5180067.32700
NATION: US
NATION: "SCIENCE
STATE: MT
NW_QUAD_CORNER_XY: 323375.35700 5179979.98300
NE_QUAD_CORNER_XY: 328148.84600 5179841.47600
SE_QUAD_CORNERY_XY: 327950.20500 5172896.73600
SW_QUAD_CORNER_XY: 323171.19200 5173035.26000
SECONDARY_NW_QUAD_XY: 323369.94200 5179761.64800
SECONDARY_NE_QUAD_XY: 328143.57700 5179623.13800
SECONDARY_SE_QUAD_XY: 327944.93700 5172678.43000
SECONDARY_SW_QUAD_XY: 323165.77800 5172816.95800
RMSE_XY: 2.30000
IMAGE_SOURCE: BLACK AND WHITE FILM
SOURCE_IMAGE_ID: NAPP 8391 177
SOURCE_IMAGE_DATE: 1995 08 01
SOURCE_IMAGE_ID: NAPP 8390 055
SOURCE_IMAGE_DATE: 1995 07 31
SOURCE_IMAGE_ID: NAPP 8390 056
SOURCE_IMAGE_DATE: 1995 07 31
SOURCE_IMAGE_ID: NAPP 8391 178
SOURCE_IMAGE_DATE: 1995 08 01
SOURCE_DEM_DATE: 1988 00 00
AGENCY: WESTERN MAPPING CENTER (WMC)
PRODUCER: UNDEFINED
PRODUCTION_SYSTEM: GIS/MAGIC
COMPRESSION: UNDEFINED
STANDARD_VERSION: 1996 12
METADATA_DATE: 2000 05 30
DATA_FILE_SIZE: 43465450
BYTE_COUNT: 5650
