FILENAME: O4611320.NWS.1074856.tif
QUADRANGLE_NAME: RAVENNA
QUADRANT: NW
WEST_LONGITUDE: -113 37 30.00000
EAST_LONGITUDE: -113 33 45.00000
NORTH_LATITUDE: 46 45 0.00000
SOUTH_LATITUDE: 46 41 15.00000
PRODUCTION_DATE: 2000 5 3
RASTER_ORDER: LEFT_RIGHT/TOP_BOTTOM
BAND_ORGANIZATION: SINGLE FILE
BAND_CONTENT: BLACK&WHITE
BAND_CONTENT: UNDEFINED
BAND_CONTENT: UNDEFINED
BITS_PER_PIXEL: 8
SAMPLES_AND_LINES: 5679 7711
HORIZONTAL_DATUM: NAD83
HORIZONTAL_COORDINATE_SYSTEM: UTM
COORDINATE_ZONE: 12
HORIZONTAL_UNITS: METERS
HORIZONTAL_RESOLUTION: 1.00000
SECONDARY_HORIZONTAL_DATUM: NAD27
XY_ORIGIN: 298904.00000 5181030.00000
SECONDARY_XY_ORIGIN: 298968.80900 5180817.34100
NATION: US
NATION: "SCIENCE
STATE: MT
NW_QUAD_CORNER_XY: 299508.10600 5180729.49800
NE_QUAD_CORNER_XY: 304281.52900 5180571.99600
SE_QUAD_CORNERY_XY: 304055.26700 5173627.35000
SW_QUAD_CORNER_XY: 299276.31900 5173784.87300
SECONDARY_NW_QUAD_XY: 299501.95900 5180511.18700
SECONDARY_NE_QUAD_XY: 304275.52800 5180353.68000
SECONDARY_SE_QUAD_XY: 304049.26700 5173409.06600
SECONDARY_SW_QUAD_XY: 299270.17200 5173566.59300
RMSE_XY: 4.80000
IMAGE_SOURCE: BLACK AND WHITE FILM
SOURCE_IMAGE_ID: NAPP 8391 221
SOURCE_IMAGE_DATE: 1995 08 01
SOURCE_IMAGE_ID: NAPP 8393 132
SOURCE_IMAGE_DATE: 1995 08 19
SOURCE_IMAGE_ID: NAPP 8393 133
SOURCE_IMAGE_DATE: 1995 08 19
SOURCE_IMAGE_ID: NAPP 8393 134
SOURCE_IMAGE_DATE: 1995 08 19
SOURCE_IMAGE_ID: NAPP 8389 254
SOURCE_IMAGE_DATE: 1995 07 31
SOURCE_DEM_DATE: 2000 01 01
AGENCY: WESTERN MAPPING CENTER (WMC)
PRODUCER: UNDEFINED
PRODUCTION_SYSTEM: GIS/MAGIC
COMPRESSION: UNDEFINED
STANDARD_VERSION: 1996 12
METADATA_DATE: 2000 05 25
DATA_FILE_SIZE: 43796448
BYTE_COUNT: 5679
