FILENAME: O4611315.SWS.1078882.tif
QUADRANGLE_NAME: WILD HORSE PARKS
QUADRANT: SW
WEST_LONGITUDE: -113 15 0.00000
EAST_LONGITUDE: -113 11 15.00000
NORTH_LATITUDE: 46 48 45.00000
SOUTH_LATITUDE: 46 45 0.00000
PRODUCTION_DATE: 2000 4 3
RASTER_ORDER: LEFT_RIGHT/TOP_BOTTOM
BAND_ORGANIZATION: SINGLE FILE
BAND_CONTENT: BLACK&WHITE
BAND_CONTENT: UNDEFINED
BAND_CONTENT: UNDEFINED
BITS_PER_PIXEL: 8
SAMPLES_AND_LINES: 5639 7688
HORIZONTAL_DATUM: NAD83
HORIZONTAL_COORDINATE_SYSTEM: UTM
COORDINATE_ZONE: 12
HORIZONTAL_UNITS: METERS
HORIZONTAL_RESOLUTION: 1.00000
SECONDARY_HORIZONTAL_DATUM: NAD27
XY_ORIGIN: 327778.00000 5187087.00000
SECONDARY_XY_ORIGIN: 327841.88100 5186874.13900
NATION: US
NATION: "SCIENCE
STATE: MT
NW_QUAD_CORNER_XY: 328347.69400 5186786.28100
NE_QUAD_CORNER_XY: 333115.66700 5186651.59100
SE_QUAD_CORNERY_XY: 332922.34800 5179706.76800
SW_QUAD_CORNER_XY: 328148.84600 5179841.47600
SECONDARY_NW_QUAD_XY: 328342.42400 5186567.91100
SECONDARY_NE_QUAD_XY: 333110.54400 5186433.21700
SECONDARY_SE_QUAD_XY: 332917.22600 5179488.42500
SECONDARY_SW_QUAD_XY: 328143.57700 5179623.13800
RMSE_XY: 2.80000
IMAGE_SOURCE: BLACK AND WHITE FILM
SOURCE_IMAGE_ID: NAPP 8393 167
SOURCE_IMAGE_DATE: 1995 08 19
SOURCE_IMAGE_ID: NAPP 8391 179
SOURCE_IMAGE_DATE: 1995 08 01
SOURCE_IMAGE_ID: NAPP 8393 168
SOURCE_IMAGE_DATE: 1995 08 19
SOURCE_IMAGE_ID: NAPP 8393 166
SOURCE_IMAGE_DATE: 1995 08 19
SOURCE_DEM_DATE: 1961 00 00
AGENCY: WESTERN MAPPING CENTER (WMC)
PRODUCER: UNDEFINED
PRODUCTION_SYSTEM: GIS/MAGIC
COMPRESSION: UNDEFINED
STANDARD_VERSION: 1996 12
METADATA_DATE: 2000 05 27
DATA_FILE_SIZE: 43358271
BYTE_COUNT: 5639
