FILENAME: O4611314.NWS.1078844.tif
QUADRANGLE_NAME: ELEVATION MOUNTAIN
QUADRANT: NW
WEST_LONGITUDE: -113 22 30.00000
EAST_LONGITUDE: -113 18 45.00000
NORTH_LATITUDE: 46 52 30.00000
SOUTH_LATITUDE: 46 48 45.00000
PRODUCTION_DATE: 2000 4 4
RASTER_ORDER: LEFT_RIGHT/TOP_BOTTOM
BAND_ORGANIZATION: SINGLE FILE
BAND_CONTENT: BLACK&WHITE
BAND_CONTENT: UNDEFINED
BAND_CONTENT: UNDEFINED
BITS_PER_PIXEL: 8
SAMPLES_AND_LINES: 5645 7695
HORIZONTAL_DATUM: NAD83
HORIZONTAL_COORDINATE_SYSTEM: UTM
COORDINATE_ZONE: 12
HORIZONTAL_UNITS: METERS
HORIZONTAL_RESOLUTION: 1.00000
SECONDARY_HORIZONTAL_DATUM: NAD27
XY_ORIGIN: 318441.00000 5194312.00000
SECONDARY_XY_ORIGIN: 318505.03500 5194099.00800
NATION: US
NATION: "SCIENCE
STATE: MT
NW_QUAD_CORNER_XY: 319021.90800 5194011.88500
NE_QUAD_CORNER_XY: 323784.32000 5193869.61900
SE_QUAD_CORNERY_XY: 323579.73300 5186924.76900
SW_QUAD_CORNER_XY: 318811.78500 5187067.05400
SECONDARY_NW_QUAD_XY: 319016.34400 5193793.49300
SECONDARY_NE_QUAD_XY: 323778.90300 5193651.22300
SECONDARY_SE_QUAD_XY: 323574.31700 5186706.40300
SECONDARY_SW_QUAD_XY: 318806.22300 5186848.69300
RMSE_XY: 4.80000
IMAGE_SOURCE: BLACK AND WHITE FILM
SOURCE_IMAGE_ID: NAPP 8391 181
SOURCE_IMAGE_DATE: 1995 08 01
SOURCE_IMAGE_ID: NAPP 8390 013
SOURCE_IMAGE_DATE: 1995 07 31
SOURCE_IMAGE_ID: NAPP 8390 058
SOURCE_IMAGE_DATE: 1995 07 31
SOURCE_IMAGE_ID: NAPP 8390 060
SOURCE_IMAGE_DATE: 1995 07 31
SOURCE_IMAGE_ID: NAPP 8391 180
SOURCE_IMAGE_DATE: 1995 08 01
SOURCE_DEM_DATE: 1977 00 00
AGENCY: WESTERN MAPPING CENTER (WMC)
PRODUCER: UNDEFINED
PRODUCTION_SYSTEM: GIS/MAGIC
COMPRESSION: UNDEFINED
STANDARD_VERSION: 1996 12
METADATA_DATE: 2000 05 27
DATA_FILE_SIZE: 43443920
BYTE_COUNT: 5645
