FILENAME: O4611312.NWS.1078824.tif
QUADRANGLE_NAME: MINERAL RIDGE
QUADRANT: NW
WEST_LONGITUDE: -113 37 30.00000
EAST_LONGITUDE: -113 33 45.00000
NORTH_LATITUDE: 46 52 30.00000
SOUTH_LATITUDE: 46 48 45.00000
PRODUCTION_DATE: 2000 3 27
RASTER_ORDER: LEFT_RIGHT/TOP_BOTTOM
BAND_ORGANIZATION: SINGLE FILE
BAND_CONTENT: BLACK&WHITE
BAND_CONTENT: UNDEFINED
BAND_CONTENT: UNDEFINED
BITS_PER_PIXEL: 8
SAMPLES_AND_LINES: 5668 7710
HORIZONTAL_DATUM: NAD83
HORIZONTAL_COORDINATE_SYSTEM: UTM
COORDINATE_ZONE: 12
HORIZONTAL_UNITS: METERS
HORIZONTAL_RESOLUTION: 1.00000
SECONDARY_HORIZONTAL_DATUM: NAD27
XY_ORIGIN: 299368.00000 5194919.00000
SECONDARY_XY_ORIGIN: 299432.57600 5194706.12500
NATION: US
NATION: "SCIENCE
STATE: MT
NW_QUAD_CORNER_XY: 299972.40200 5194618.92900
NE_QUAD_CORNER_XY: 304734.75600 5194461.47100
SE_QUAD_CORNERY_XY: 304508.02500 5187516.70300
SW_QUAD_CORNER_XY: 299740.13400 5187674.18400
SECONDARY_NW_QUAD_XY: 299966.25200 5194400.55600
SECONDARY_NE_QUAD_XY: 304728.75300 5194243.09300
SECONDARY_SE_QUAD_XY: 304502.02400 5187298.35500
SECONDARY_SW_QUAD_XY: 299733.98600 5187455.84100
RMSE_XY: 2.70000
IMAGE_SOURCE: BLACK AND WHITE FILM
SOURCE_IMAGE_ID: NAPP 8403 010
SOURCE_IMAGE_DATE: 1995 09 02
SOURCE_IMAGE_ID: NAPP 8393 136
SOURCE_IMAGE_DATE: 1995 08 19
SOURCE_IMAGE_ID: NAPP 8403 009
SOURCE_IMAGE_DATE: 1995 09 02
SOURCE_IMAGE_ID: NAPP 8391 214
SOURCE_IMAGE_DATE: 1995 08 01
SOURCE_DEM_DATE: 1961 00 00
AGENCY: WESTERN MAPPING CENTER (WMC)
PRODUCER: UNDEFINED
PRODUCTION_SYSTEM: GIS/MAGIC
COMPRESSION: UNDEFINED
STANDARD_VERSION: 1996 12
METADATA_DATE: 2000 05 27
DATA_FILE_SIZE: 43705948
BYTE_COUNT: 5668
