FILENAME: O4611310.SWS.1078766.tif
QUADRANGLE_NAME: BONNER
QUADRANT: SW
WEST_LONGITUDE: -113 52 30.00000
EAST_LONGITUDE: -113 48 45.00000
NORTH_LATITUDE: 46 48 45.00000
SOUTH_LATITUDE: 46 45 0.00000
PRODUCTION_DATE: 2000 3 26
RASTER_ORDER: LEFT_RIGHT/TOP_BOTTOM
BAND_ORGANIZATION: SINGLE FILE
BAND_CONTENT: BLACK&WHITE
BAND_CONTENT: UNDEFINED
BAND_CONTENT: UNDEFINED
BITS_PER_PIXEL: 8
SAMPLES_AND_LINES: 5697 7726
HORIZONTAL_DATUM: NAD83
HORIZONTAL_COORDINATE_SYSTEM: UTM
COORDINATE_ZONE: 12
HORIZONTAL_UNITS: METERS
HORIZONTAL_RESOLUTION: 1.00000
SECONDARY_HORIZONTAL_DATUM: NAD27
XY_ORIGIN: 280041.00000 5188643.00000
SECONDARY_XY_ORIGIN: 280106.06500 5188430.35700
NATION: US
NATION: "SCIENCE
STATE: MT
NW_QUAD_CORNER_XY: 280668.72300 5188342.10700
NE_QUAD_CORNER_XY: 285436.55200 5188169.42500
SE_QUAD_CORNERY_XY: 285187.92700 5181224.80600
SW_QUAD_CORNER_XY: 280414.56400 5181397.51100
SECONDARY_NW_QUAD_XY: 280661.98800 5188123.78500
SECONDARY_NE_QUAD_XY: 285429.96400 5187951.09800
SECONDARY_SE_QUAD_XY: 285181.34100 5181006.51000
SECONDARY_SW_QUAD_XY: 280407.83200 5181179.22000
RMSE_XY: 4.10000
IMAGE_SOURCE: BLACK AND WHITE FILM
SOURCE_IMAGE_ID: NAPP 8393 008
SOURCE_IMAGE_DATE: 1995 08 19
SOURCE_IMAGE_ID: NAPP 8393 009
SOURCE_IMAGE_DATE: 1995 08 19
SOURCE_IMAGE_ID: NAPP 8393 007
SOURCE_IMAGE_DATE: 1995 08 19
SOURCE_IMAGE_ID: NAPP 8389 159
SOURCE_IMAGE_DATE: 1995 07 31
SOURCE_DEM_DATE: 1978 00 00
AGENCY: WESTERN MAPPING CENTER (WMC)
PRODUCER: UNDEFINED
PRODUCTION_SYSTEM: GIS/MAGIC
COMPRESSION: UNDEFINED
STANDARD_VERSION: 1996 12
METADATA_DATE: 2000 05 27
DATA_FILE_SIZE: 44020719
BYTE_COUNT: 5697
