FILENAME: O4611308.NWS.1078888.tif
QUADRANGLE_NAME: BROWNS LAKE
QUADRANT: NW
WEST_LONGITUDE: -113 7 30.00000
EAST_LONGITUDE: -113 3 45.00000
NORTH_LATITUDE: 47 0 0.00000
SOUTH_LATITUDE: 46 56 15.00000
PRODUCTION_DATE: 2000 5 24
RASTER_ORDER: LEFT_RIGHT/TOP_BOTTOM
BAND_ORGANIZATION: SINGLE FILE
BAND_CONTENT: BLACK&WHITE
BAND_CONTENT: UNDEFINED
BAND_CONTENT: UNDEFINED
BITS_PER_PIXEL: 8
SAMPLES_AND_LINES: 5611 7680
HORIZONTAL_DATUM: NAD83
HORIZONTAL_COORDINATE_SYSTEM: UTM
COORDINATE_ZONE: 12
HORIZONTAL_UNITS: METERS
HORIZONTAL_RESOLUTION: 1.00000
SECONDARY_HORIZONTAL_DATUM: NAD27
XY_ORIGIN: 337890.00000 5207656.00000
SECONDARY_XY_ORIGIN: 337953.11000 5207442.54900
NATION: US
NATION: "SCIENCE
STATE: MT
NW_QUAD_CORNER_XY: 338448.18900 5207355.61300
NE_QUAD_CORNER_XY: 343199.56900 5207228.57300
SE_QUAD_CORNERY_XY: 343016.74200 5200283.51600
SW_QUAD_CORNER_XY: 338259.81600 5200410.57600
SECONDARY_NW_QUAD_XY: 338443.21000 5207137.14700
SECONDARY_NE_QUAD_XY: 343194.73700 5207010.10200
SECONDARY_SE_QUAD_XY: 343011.91000 5200065.07400
SECONDARY_SW_QUAD_XY: 338254.83800 5200192.13800
RMSE_XY: 3.10000
IMAGE_SOURCE: BLACK AND WHITE FILM
SOURCE_IMAGE_ID: NAPP 8398 191
SOURCE_IMAGE_DATE: 1995 08 28
SOURCE_IMAGE_ID: NAPP 8398 161
SOURCE_IMAGE_DATE: 1995 08 28
SOURCE_IMAGE_ID: NAPP 8398 192
SOURCE_IMAGE_DATE: 1995 08 28
SOURCE_IMAGE_ID: NAPP 8399 028
SOURCE_IMAGE_DATE: 1995 08 28
SOURCE_DEM_DATE: 1977 00 00
AGENCY: WESTERN MAPPING CENTER (WMC)
PRODUCER: UNDEFINED
PRODUCTION_SYSTEM: GIS/MAGIC
COMPRESSION: UNDEFINED
STANDARD_VERSION: 1996 12
METADATA_DATE: 2000 05 27
DATA_FILE_SIZE: 43098091
BYTE_COUNT: 5611
