FILENAME: O4611308.SWS.1078890.tif
QUADRANGLE_NAME: BROWNS LAKE
QUADRANT: SW
WEST_LONGITUDE: -113 7 30.00000
EAST_LONGITUDE: -113 3 45.00000
NORTH_LATITUDE: 46 56 15.00000
SOUTH_LATITUDE: 46 52 30.00000
PRODUCTION_DATE: 2000 5 24
RASTER_ORDER: LEFT_RIGHT/TOP_BOTTOM
BAND_ORGANIZATION: SINGLE FILE
BAND_CONTENT: BLACK&WHITE
BAND_CONTENT: UNDEFINED
BAND_CONTENT: UNDEFINED
BITS_PER_PIXEL: 8
SAMPLES_AND_LINES: 5616 7680
HORIZONTAL_DATUM: NAD83
HORIZONTAL_COORDINATE_SYSTEM: UTM
COORDINATE_ZONE: 12
HORIZONTAL_UNITS: METERS
HORIZONTAL_RESOLUTION: 1.00000
SECONDARY_HORIZONTAL_DATUM: NAD27
XY_ORIGIN: 337702.00000 5200711.00000
SECONDARY_XY_ORIGIN: 337765.27100 5200497.74100
NATION: US
NATION: "SCIENCE
STATE: MT
NW_QUAD_CORNER_XY: 338259.81600 5200410.57600
NE_QUAD_CORNER_XY: 343016.74200 5200283.51600
SE_QUAD_CORNERY_XY: 342834.10200 5193338.52600
SW_QUAD_CORNER_XY: 338071.63800 5193465.60400
SECONDARY_NW_QUAD_XY: 338254.83800 5200192.13800
SECONDARY_NE_QUAD_XY: 343011.91000 5200065.07400
SECONDARY_SE_QUAD_XY: 342829.27100 5193120.11400
SECONDARY_SW_QUAD_XY: 338066.66000 5193247.19600
RMSE_XY: 4.70000
IMAGE_SOURCE: BLACK AND WHITE FILM
SOURCE_IMAGE_ID: NAPP 8398 189
SOURCE_IMAGE_DATE: 1995 08 28
SOURCE_IMAGE_ID: NAPP 8398 163
SOURCE_IMAGE_DATE: 1995 08 28
SOURCE_IMAGE_ID: NAPP 8398 162
SOURCE_IMAGE_DATE: 1995 08 28
SOURCE_IMAGE_ID: NAPP 8398 188
SOURCE_IMAGE_DATE: 1995 08 28
SOURCE_DEM_DATE: 1977 00 00
AGENCY: WESTERN MAPPING CENTER (WMC)
PRODUCER: UNDEFINED
PRODUCTION_SYSTEM: GIS/MAGIC
COMPRESSION: UNDEFINED
STANDARD_VERSION: 1996 12
METADATA_DATE: 2000 05 27
DATA_FILE_SIZE: 43136496
BYTE_COUNT: 5616
