FILENAME: O4611307.SWS.1078878.tif
QUADRANGLE_NAME: CHAMBERLAIN MOUNTAIN
QUADRANT: SW
WEST_LONGITUDE: -113 15 0.00000
EAST_LONGITUDE: -113 11 15.00000
NORTH_LATITUDE: 46 56 15.00000
SOUTH_LATITUDE: 46 52 30.00000
PRODUCTION_DATE: 2000 5 24
RASTER_ORDER: LEFT_RIGHT/TOP_BOTTOM
BAND_ORGANIZATION: SINGLE FILE
BAND_CONTENT: BLACK&WHITE
BAND_CONTENT: UNDEFINED
BAND_CONTENT: UNDEFINED
BITS_PER_PIXEL: 8
SAMPLES_AND_LINES: 5628 7688
HORIZONTAL_DATUM: NAD83
HORIZONTAL_COORDINATE_SYSTEM: UTM
COORDINATE_ZONE: 12
HORIZONTAL_UNITS: METERS
HORIZONTAL_RESOLUTION: 1.00000
SECONDARY_HORIZONTAL_DATUM: NAD27
XY_ORIGIN: 328176.00000 5200977.00000
SECONDARY_XY_ORIGIN: 328239.57300 5200763.77400
NATION: US
NATION: "SCIENCE
STATE: MT
NW_QUAD_CORNER_XY: 328746.00400 5200676.08400
NE_QUAD_CORNER_XY: 333502.90400 5200541.43200
SE_QUAD_CORNERY_XY: 333309.18600 5193596.47900
SW_QUAD_CORNER_XY: 328546.74600 5193731.15000
SECONDARY_NW_QUAD_XY: 328740.73300 5200457.65400
SECONDARY_NE_QUAD_XY: 333497.77900 5200322.99800
SECONDARY_SE_QUAD_XY: 333304.06100 5193378.07400
SECONDARY_SW_QUAD_XY: 328541.47600 5193512.75000
RMSE_XY: 3.00000
IMAGE_SOURCE: BLACK AND WHITE FILM
SOURCE_IMAGE_ID: NAPP 8393 163
SOURCE_IMAGE_DATE: 1995 08 19
SOURCE_IMAGE_ID: NAPP 8393 164
SOURCE_IMAGE_DATE: 1995 08 19
SOURCE_DEM_DATE: 1961 00 00
AGENCY: WESTERN MAPPING CENTER (WMC)
PRODUCER: UNDEFINED
PRODUCTION_SYSTEM: GIS/MAGIC
COMPRESSION: UNDEFINED
STANDARD_VERSION: 1996 12
METADATA_DATE: 2000 05 27
DATA_FILE_SIZE: 43273692
BYTE_COUNT: 5628
