FILENAME: O4611462.NWS.1068272.tif
QUADRANGLE_NAME: COMO PEAKS
QUADRANT: NW
WEST_LONGITUDE: -114 22 30.00000
EAST_LONGITUDE: -114 18 45.00000
NORTH_LATITUDE: 46 7 30.00000
SOUTH_LATITUDE: 46 3 45.00000
PRODUCTION_DATE: 2000 3 20
RASTER_ORDER: LEFT_RIGHT/TOP_BOTTOM
BAND_ORGANIZATION: SINGLE FILE
BAND_CONTENT: BLACK&WHITE
BAND_CONTENT: UNDEFINED
BAND_CONTENT: UNDEFINED
BITS_PER_PIXEL: 8
SAMPLES_AND_LINES: 5738 7720
HORIZONTAL_DATUM: NAD83
HORIZONTAL_COORDINATE_SYSTEM: UTM
COORDINATE_ZONE: 11
HORIZONTAL_UNITS: METERS
HORIZONTAL_RESOLUTION: 1.00000
SECONDARY_HORIZONTAL_DATUM: NAD27
XY_ORIGIN: 702426.00000 5111748.00000
SECONDARY_XY_ORIGIN: 702503.54100 5111541.23600
NATION: US
NATION: "SCIENCE
STATE: MT
NW_QUAD_CORNER_XY: 702798.92700 5111285.95800
NE_QUAD_CORNER_XY: 707627.33900 5111447.43500
SE_QUAD_CORNERY_XY: 707862.18100 5104503.42600
SW_QUAD_CORNER_XY: 703028.30000 5104341.93600
SECONDARY_NW_QUAD_XY: 702805.06300 5111068.00600
SECONDARY_NE_QUAD_XY: 707633.62100 5111229.48800
SECONDARY_SE_QUAD_XY: 707868.46100 5104285.51900
SECONDARY_SW_QUAD_XY: 703034.43500 5104124.02400
RMSE_XY: 3.10000
IMAGE_SOURCE: BLACK AND WHITE FILM
SOURCE_IMAGE_ID: NAPP 8407 040
SOURCE_IMAGE_DATE: 1995 08 19
SOURCE_IMAGE_ID: NAPP 8407 039
SOURCE_IMAGE_DATE: 1995 08 19
SOURCE_IMAGE_ID: NAPP 8407 041
SOURCE_IMAGE_DATE: 1995 08 19
SOURCE_IMAGE_ID: NAPP 8407 164
SOURCE_IMAGE_DATE: 1995 08 19
SOURCE_IMAGE_ID: NAPP 8407 165
SOURCE_IMAGE_DATE: 1995 08 19
SOURCE_DEM_DATE: 1997 00 00
AGENCY: WESTERN MAPPING CENTER (WMC)
PRODUCER: UNDEFINED
PRODUCTION_SYSTEM: GIS/MAGIC
COMPRESSION: UNDEFINED
STANDARD_VERSION: 1996 12
METADATA_DATE: 2000 04 20
DATA_FILE_SIZE: 44303098
BYTE_COUNT: 5738
