BEGIN_USGS_DOQ_HEADER *
QUADRANGLE_NAME "EL CAPITAN" *
QUADRANT SE *
WEST_LONGITUDE -114 26 15.000 *
EAST_LONGITUDE -114 22 30.000 *
NORTH_LATITUDE 46 3 45.000 *
SOUTH_LATITUDE 46 0 0.000 *
PRODUCTION_DATE 2003 4 1 *
RASTER_ORDER LEFT_RIGHT/TOP_BOTTOM *
BAND_ORGANIZATION "SINGLE FILE" *
BAND_CONTENT BLACK&WHITE *
BITS_PER_PIXEL 8 *
SAMPLES_AND_LINES 5735 7708 *
HORIZONTAL_DATUM NAD83 *
HORIZONTAL_COORDINATE_SYSTEM UTM *
COORDINATE_ZONE 11 *
HORIZONTAL_UNITS METERS *
HORIZONTAL_RESOLUTION 1.0 *
SECONDARY_HORIZONTAL_DATUM NAD27 *
XY_ORIGIN 697822.370 5104648.440 *
SECONDARY_XY_ORIGIN 697899.829 5104441.714 *
NATION US *
STATE MT *
NW_QUAD_CORNER_XY 698194.411 5104184.251 *
NE_QUAD_CORNER_XY 703028.300 5104341.936 *
SE_QUAD_CORNER_XY 703257.431 5097397.975 *
SW_QUAD_CORNER_XY 698418.079 5097240.277 *
SECONDARY_NW_QUAD_XY 698200.401 5103966.335 *
SECONDARY_NE_QUAD_XY 703034.436 5104124.026 *
SECONDARY_SE_QUAD_XY 703263.565 5097180.105 *
SECONDARY_SW_QUAD_XY 698424.067 5097022.403 *
RMSE_XY 1.00 *
IMAGE_SOURCE "BLACK AND WHITE FILM" *
SOURCE_IMAGE_ID "NAPP 10653 93" *
SOURCE_IMAGE_DATE 1998 9 15 *
SOURCE_IMAGE_ID "NAPP 10653 94" *
SOURCE_IMAGE_DATE 1998 9 15 *
SOURCE_IMAGE_ID "NAPP 10653 92" *
SOURCE_IMAGE_DATE 1998 9 15 *
SOURCE_IMAGE_ID "NAPP 10653 45" *
SOURCE_IMAGE_DATE 1998 9 15 *
SOURCE_IMAGE_ID "NAPP 10653 46" *
SOURCE_IMAGE_DATE 1998 9 15 *
SOURCE_IMAGE_ID "NAPP 10653 47" *
SOURCE_IMAGE_DATE 1998 9 15 *
SOURCE_DEM_DATE 2003 1 1 *
AGENCY "WESTERN MAPPING CENTER (WMC)" *
PRODUCER "USDA FS GEOSPATIAL SERVICE AND TECHNOLOGY CENTER" *
PRODUCTION_SYSTEM "ORBIT OR_RECTIFY V.5.2" *
STANDARD_VERSION 1996 12 *
METADATA_DATE 2003 3 19 *
DATA_FILE_SIZE 44211115 *
BYTE_COUNT 5735 *
