FILENAME: O4611455.SES.1068404.tif
QUADRANGLE_NAME: HAMILTON SOUTH
QUADRANT: SE
WEST_LONGITUDE: -114 11 15.00000
EAST_LONGITUDE: -114 7 30.00000
NORTH_LATITUDE: 46 11 15.00000
SOUTH_LATITUDE: 46 7 30.00000
PRODUCTION_DATE: 2000 3 9
RASTER_ORDER: LEFT_RIGHT/TOP_BOTTOM
BAND_ORGANIZATION: SINGLE FILE
BAND_CONTENT: BLACK&WHITE
BAND_CONTENT: UNDEFINED
BAND_CONTENT: UNDEFINED
BITS_PER_PIXEL: 8
SAMPLES_AND_LINES: 5749 7731
HORIZONTAL_DATUM: NAD83
HORIZONTAL_COORDINATE_SYSTEM: UTM
COORDINATE_ZONE: 11
HORIZONTAL_UNITS: METERS
HORIZONTAL_RESOLUTION: 1.00000
SECONDARY_HORIZONTAL_DATUM: NAD27
XY_ORIGIN: 716665.00000 5119199.00000
SECONDARY_XY_ORIGIN: 716742.72800 5118992.30000
NATION: US
NATION: "SCIENCE
STATE: MT
NW_QUAD_CORNER_XY: 717038.09200 5118725.84300
NE_QUAD_CORNER_XY: 721860.99800 5118898.72100
SE_QUAD_CORNERY_XY: 722112.51500 5111954.69600
SW_QUAD_CORNER_XY: 717284.13300 5111781.80400
SECONDARY_NW_QUAD_XY: 717044.66700 5118507.86600
SECONDARY_NE_QUAD_XY: 721867.72000 5118680.74900
SECONDARY_SE_QUAD_XY: 722119.23500 5111736.76400
SECONDARY_SW_QUAD_XY: 717290.70700 5111563.86700
RMSE_XY: 1.70000
IMAGE_SOURCE: BLACK AND WHITE FILM
SOURCE_IMAGE_ID: NAPP 8406 080
SOURCE_IMAGE_DATE: 1995 07 31
SOURCE_DEM_DATE: 1997 00 00
AGENCY: WESTERN MAPPING CENTER (WMC)
PRODUCER: UNDEFINED
PRODUCTION_SYSTEM: GIS/MAGIC
COMPRESSION: UNDEFINED
STANDARD_VERSION: 1996 12
METADATA_DATE: 2000 04 20
DATA_FILE_SIZE: 44451268
BYTE_COUNT: 5749
