BEGIN_USGS_DOQ_HEADER *
QUADRANGLE_NAME "TENMILE LAKE" *
QUADRANT SE *
WEST_LONGITUDE -114 26 15.000 *
EAST_LONGITUDE -114 22 30.000 *
NORTH_LATITUDE 46 11 15.000 *
SOUTH_LATITUDE 46 7 30.000 *
PRODUCTION_DATE 2003 4 1 *
RASTER_ORDER LEFT_RIGHT/TOP_BOTTOM *
BAND_ORGANIZATION "SINGLE FILE" *
BAND_CONTENT BLACK&WHITE *
BITS_PER_PIXEL 8 *
SAMPLES_AND_LINES 5725 7708 *
HORIZONTAL_DATUM NAD83 *
HORIZONTAL_COORDINATE_SYSTEM UTM *
COORDINATE_ZONE 11 *
HORIZONTAL_UNITS METERS *
HORIZONTAL_RESOLUTION 1.0 *
SECONDARY_HORIZONTAL_DATUM NAD27 *
XY_ORIGIN 697374.260 5118536.450 *
SECONDARY_XY_ORIGIN 697451.792 5118329.564 *
NATION US *
STATE MT *
NW_QUAD_CORNER_XY 697746.365 5118072.382 *
NE_QUAD_CORNER_XY 702569.312 5118230.041 *
SE_QUAD_CORNER_XY 702798.927 5111285.959 *
SW_QUAD_CORNER_XY 697970.506 5111128.286 *
SECONDARY_NW_QUAD_XY 697752.357 5117854.386 *
SECONDARY_NE_QUAD_XY 702575.450 5118012.050 *
SECONDARY_SE_QUAD_XY 702805.064 5111068.007 *
SECONDARY_SW_QUAD_XY 697976.497 5110910.330 *
RMSE_XY 1.00 *
IMAGE_SOURCE "BLACK AND WHITE FILM" *
SOURCE_IMAGE_ID "NAPP 10653 89" *
SOURCE_IMAGE_DATE 1998 9 15 *
SOURCE_IMAGE_ID "NAPP 10653 90" *
SOURCE_IMAGE_DATE 1998 9 15 *
SOURCE_IMAGE_ID "NAPP 10653 88" *
SOURCE_IMAGE_DATE 1998 9 15 *
SOURCE_IMAGE_ID "NAPP 10653 49" *
SOURCE_IMAGE_DATE 1998 9 15 *
SOURCE_IMAGE_ID "NAPP 10653 50" *
SOURCE_IMAGE_DATE 1998 9 15 *
SOURCE_IMAGE_ID "NAPP 10653 51" *
SOURCE_IMAGE_DATE 1998 9 15 *
SOURCE_DEM_DATE 2003 1 1 *
AGENCY "WESTERN MAPPING CENTER (WMC)" *
PRODUCER "USDA FS GEOSPATIAL SERVICE AND TECHNOLOGY CENTER" *
PRODUCTION_SYSTEM "ORBIT OR_RECTIFY V.5.2" *
STANDARD_VERSION 1996 12 *
METADATA_DATE 2003 3 19 *
DATA_FILE_SIZE 44134025 *
BYTE_COUNT 5725 *
