FILENAME: O4611447.SWS.1068421.tif
QUADRANGLE_NAME: HAMILTON NORTH
QUADRANT: SW
WEST_LONGITUDE: -114 15 0.00000
EAST_LONGITUDE: -114 11 15.00000
NORTH_LATITUDE: 46 18 45.00000
SOUTH_LATITUDE: 46 15 0.00000
PRODUCTION_DATE: 2000 3 22
RASTER_ORDER: LEFT_RIGHT/TOP_BOTTOM
BAND_ORGANIZATION: SINGLE FILE
BAND_CONTENT: BLACK&WHITE
BAND_CONTENT: UNDEFINED
BAND_CONTENT: UNDEFINED
BITS_PER_PIXEL: 8
SAMPLES_AND_LINES: 5733 7728
HORIZONTAL_DATUM: NAD83
HORIZONTAL_COORDINATE_SYSTEM: UTM
COORDINATE_ZONE: 11
HORIZONTAL_UNITS: METERS
HORIZONTAL_RESOLUTION: 1.00000
SECONDARY_HORIZONTAL_DATUM: NAD27
XY_ORIGIN: 711360.00000 5132915.00000
SECONDARY_XY_ORIGIN: 711437.86100 5132708.10900
NATION: US
NATION: "SCIENCE
STATE: MT
NW_QUAD_CORNER_XY: 711733.28300 5132445.05600
NE_QUAD_CORNER_XY: 716545.23200 5132614.09600
SE_QUAD_CORNERY_XY: 716791.79200 5125669.94100
SW_QUAD_CORNER_XY: 711974.35600 5125500.88400
SECONDARY_NW_QUAD_XY: 711739.71500 5132226.99700
SECONDARY_NE_QUAD_XY: 716551.80900 5132396.04200
SECONDARY_SE_QUAD_XY: 716798.36800 5125451.92500
SECONDARY_SW_QUAD_XY: 711980.78700 5125282.86300
RMSE_XY: 2.70000
IMAGE_SOURCE: BLACK AND WHITE FILM
SOURCE_IMAGE_ID: NAPP 8406 129
SOURCE_IMAGE_DATE: 1995 07 31
SOURCE_IMAGE_ID: NAPP 8407 169
SOURCE_IMAGE_DATE: 1995 08 19
SOURCE_IMAGE_ID: NAPP 8407 170
SOURCE_IMAGE_DATE: 1995 08 19
SOURCE_IMAGE_ID: NAPP 8407 171
SOURCE_IMAGE_DATE: 1995 08 19
SOURCE_IMAGE_ID: NAPP 8406 126
SOURCE_IMAGE_DATE: 1995 07 31
SOURCE_DEM_DATE: 1997 00 00
AGENCY: WESTERN MAPPING CENTER (WMC)
PRODUCER: UNDEFINED
PRODUCTION_SYSTEM: GIS/MAGIC
COMPRESSION: UNDEFINED
STANDARD_VERSION: 1996 12
METADATA_DATE: 2000 04 20
DATA_FILE_SIZE: 44310357
BYTE_COUNT: 5733
