FILENAME: O4611446.NES.1068327.tif
QUADRANGLE_NAME: PRINTZ RIDGE
QUADRANT: NE
WEST_LONGITUDE: -114 18 45.00000
EAST_LONGITUDE: -114 15 0.00000
NORTH_LATITUDE: 46 22 30.00000
SOUTH_LATITUDE: 46 18 45.00000
PRODUCTION_DATE: 2000 3 22
RASTER_ORDER: LEFT_RIGHT/TOP_BOTTOM
BAND_ORGANIZATION: SINGLE FILE
BAND_CONTENT: BLACK&WHITE
BAND_CONTENT: UNDEFINED
BAND_CONTENT: UNDEFINED
BITS_PER_PIXEL: 8
SAMPLES_AND_LINES: 5723 7724
HORIZONTAL_DATUM: NAD83
HORIZONTAL_COORDINATE_SYSTEM: UTM
COORDINATE_ZONE: 11
HORIZONTAL_UNITS: METERS
HORIZONTAL_RESOLUTION: 1.00000
SECONDARY_HORIZONTAL_DATUM: NAD27
XY_ORIGIN: 706312.00000 5139690.00000
SECONDARY_XY_ORIGIN: 706389.89100 5139483.00700
NATION: US
NATION: "SCIENCE
STATE: MT
NW_QUAD_CORNER_XY: 706685.49000 5139224.06700
NE_QUAD_CORNER_XY: 711491.95700 5139389.28600
SE_QUAD_CORNERY_XY: 711733.28300 5132445.05600
SW_QUAD_CORNER_XY: 706921.32400 5132279.82000
SECONDARY_NW_QUAD_XY: 706691.77700 5139005.96600
SECONDARY_NE_QUAD_XY: 711498.39000 5139171.19000
SECONDARY_SE_QUAD_XY: 711739.71500 5132226.99700
SECONDARY_SW_QUAD_XY: 706927.60900 5132061.75600
RMSE_XY: 1.90000
IMAGE_SOURCE: BLACK AND WHITE FILM
SOURCE_IMAGE_ID: NAPP 8407 172
SOURCE_IMAGE_DATE: 1995 08 19
SOURCE_IMAGE_ID: NAPP 8407 048
SOURCE_IMAGE_DATE: 1995 08 19
SOURCE_IMAGE_ID: NAPP 8407 171
SOURCE_IMAGE_DATE: 1995 08 19
SOURCE_IMAGE_ID: NAPP 8407 173
SOURCE_IMAGE_DATE: 1995 08 19
SOURCE_DEM_DATE: 1997 00 00
AGENCY: WESTERN MAPPING CENTER (WMC)
PRODUCER: UNDEFINED
PRODUCTION_SYSTEM: GIS/MAGIC
COMPRESSION: UNDEFINED
STANDARD_VERSION: 1996 12
METADATA_DATE: 2000 04 20
DATA_FILE_SIZE: 44210175
BYTE_COUNT: 5723
