FILENAME: O4611446.SES.1068329.tif
QUADRANGLE_NAME: PRINTZ RIDGE
QUADRANT: SE
WEST_LONGITUDE: -114 18 45.00000
EAST_LONGITUDE: -114 15 0.00000
NORTH_LATITUDE: 46 18 45.00000
SOUTH_LATITUDE: 46 15 0.00000
PRODUCTION_DATE: 2000 3 22
RASTER_ORDER: LEFT_RIGHT/TOP_BOTTOM
BAND_ORGANIZATION: SINGLE FILE
BAND_CONTENT: BLACK&WHITE
BAND_CONTENT: UNDEFINED
BAND_CONTENT: UNDEFINED
BITS_PER_PIXEL: 8
SAMPLES_AND_LINES: 5728 7724
HORIZONTAL_DATUM: NAD83
HORIZONTAL_COORDINATE_SYSTEM: UTM
COORDINATE_ZONE: 11
HORIZONTAL_UNITS: METERS
HORIZONTAL_RESOLUTION: 1.00000
SECONDARY_HORIZONTAL_DATUM: NAD27
XY_ORIGIN: 706548.00000 5132746.00000
SECONDARY_XY_ORIGIN: 706625.79300 5132539.06600
NATION: US
NATION: "SCIENCE
STATE: MT
NW_QUAD_CORNER_XY: 706921.32400 5132279.82000
NE_QUAD_CORNER_XY: 711733.28300 5132445.05600
SE_QUAD_CORNERY_XY: 711974.35600 5125500.88400
SW_QUAD_CORNER_XY: 707156.91000 5125335.63200
SECONDARY_NW_QUAD_XY: 706927.60900 5132061.75600
SECONDARY_NE_QUAD_XY: 711739.71500 5132226.99700
SECONDARY_SE_QUAD_XY: 711980.78700 5125282.86300
SECONDARY_SW_QUAD_XY: 707163.19400 5125117.60600
RMSE_XY: 3.70000
IMAGE_SOURCE: BLACK AND WHITE FILM
SOURCE_IMAGE_ID: NAPP 8406 127
SOURCE_IMAGE_DATE: 1995 07 31
SOURCE_IMAGE_ID: NAPP 8407 045
SOURCE_IMAGE_DATE: 1995 08 19
SOURCE_IMAGE_ID: NAPP 8407 046
SOURCE_IMAGE_DATE: 1995 08 19
SOURCE_IMAGE_ID: NAPP 8407 169
SOURCE_IMAGE_DATE: 1995 08 19
SOURCE_IMAGE_ID: NAPP 8407 171
SOURCE_IMAGE_DATE: 1995 08 19
SOURCE_DEM_DATE: 1997 00 00
AGENCY: WESTERN MAPPING CENTER (WMC)
PRODUCER: UNDEFINED
PRODUCTION_SYSTEM: GIS/MAGIC
COMPRESSION: UNDEFINED
STANDARD_VERSION: 1996 12
METADATA_DATE: 2000 04 20
DATA_FILE_SIZE: 44248800
BYTE_COUNT: 5728
