FILENAME: O4611440.NES.1068864.tif
QUADRANGLE_NAME: BING
QUADRANT: NE
WEST_LONGITUDE: -114 3 45.00000
EAST_LONGITUDE: -114 0 0.00000
NORTH_LATITUDE: 46 30 0.00000
SOUTH_LATITUDE: 46 26 15.00000
PRODUCTION_DATE: 2000 3 15
RASTER_ORDER: LEFT_RIGHT/TOP_BOTTOM
BAND_ORGANIZATION: SINGLE FILE
BAND_CONTENT: BLACK&WHITE
BAND_CONTENT: UNDEFINED
BAND_CONTENT: UNDEFINED
BITS_PER_PIXEL: 8
SAMPLES_AND_LINES: 5734 7739
HORIZONTAL_DATUM: NAD83
HORIZONTAL_COORDINATE_SYSTEM: UTM
COORDINATE_ZONE: 11
HORIZONTAL_UNITS: METERS
HORIZONTAL_RESOLUTION: 1.00000
SECONDARY_HORIZONTAL_DATUM: NAD27
XY_ORIGIN: 725022.00000 5154277.00000
SECONDARY_XY_ORIGIN: 725100.35900 5154070.12800
NATION: US
NATION: "SCIENCE
STATE: MT
NW_QUAD_CORNER_XY: 725394.86200 5153796.29300
NE_QUAD_CORNER_XY: 730190.27400 5153976.69000
SE_QUAD_CORNERY_XY: 730454.12600 5147032.42000
SW_QUAD_CORNER_XY: 725653.20900 5146852.00300
SECONDARY_NW_QUAD_XY: 725401.73700 5153578.14100
SECONDARY_NE_QUAD_XY: 730197.29400 5153758.54400
SECONDARY_SE_QUAD_XY: 730461.14600 5146814.30900
SECONDARY_SW_QUAD_XY: 725660.08200 5146633.88600
RMSE_XY: 1.10000
IMAGE_SOURCE: BLACK AND WHITE FILM
SOURCE_IMAGE_ID: NAPP 8406 028
SOURCE_IMAGE_DATE: 1995 07 31
SOURCE_DEM_DATE: 1997 00 00
AGENCY: WESTERN MAPPING CENTER (WMC)
PRODUCER: UNDEFINED
PRODUCTION_SYSTEM: GIS/MAGIC
COMPRESSION: UNDEFINED
STANDARD_VERSION: 1996 12
METADATA_DATE: 2000 04 20
DATA_FILE_SIZE: 44381160
BYTE_COUNT: 5734
