FILENAME: O4611440.NWS.1068865.tif
QUADRANGLE_NAME: BING
QUADRANT: NW
WEST_LONGITUDE: -114 7 30.00000
EAST_LONGITUDE: -114 3 45.00000
NORTH_LATITUDE: 46 30 0.00000
SOUTH_LATITUDE: 46 26 15.00000
PRODUCTION_DATE: 2000 3 15
RASTER_ORDER: LEFT_RIGHT/TOP_BOTTOM
BAND_ORGANIZATION: SINGLE FILE
BAND_CONTENT: BLACK&WHITE
BAND_CONTENT: UNDEFINED
BAND_CONTENT: UNDEFINED
BITS_PER_PIXEL: 8
SAMPLES_AND_LINES: 5729 7735
HORIZONTAL_DATUM: NAD83
HORIZONTAL_COORDINATE_SYSTEM: UTM
COORDINATE_ZONE: 11
HORIZONTAL_UNITS: METERS
HORIZONTAL_RESOLUTION: 1.00000
SECONDARY_HORIZONTAL_DATUM: NAD27
XY_ORIGIN: 720226.00000 5154097.00000
SECONDARY_XY_ORIGIN: 720304.29700 5153890.05900
NATION: US
NATION: "SCIENCE
STATE: MT
NW_QUAD_CORNER_XY: 720599.43700 5153619.70000
NE_QUAD_CORNER_XY: 725394.86200 5153796.29300
SE_QUAD_CORNERY_XY: 725653.20900 5146852.00300
SW_QUAD_CORNER_XY: 720852.27800 5146675.39000
SECONDARY_NW_QUAD_XY: 720606.16500 5153401.54200
SECONDARY_NE_QUAD_XY: 725401.73700 5153578.14100
SECONDARY_SE_QUAD_XY: 725660.08200 5146633.88600
SECONDARY_SW_QUAD_XY: 720859.00500 5146457.26800
RMSE_XY: 0.90000
IMAGE_SOURCE: BLACK AND WHITE FILM
SOURCE_IMAGE_ID: NAPP 8406 051
SOURCE_IMAGE_DATE: 1995 07 31
SOURCE_DEM_DATE: 1997 00 00
AGENCY: WESTERN MAPPING CENTER (WMC)
PRODUCER: UNDEFINED
PRODUCTION_SYSTEM: GIS/MAGIC
COMPRESSION: UNDEFINED
STANDARD_VERSION: 1996 12
METADATA_DATE: 2000 04 20
DATA_FILE_SIZE: 44319544
BYTE_COUNT: 5729
