FILENAME: O4611438.SES.1068325.tif
QUADRANGLE_NAME: GASH POINT
QUADRANT: SE
WEST_LONGITUDE: -114 18 45.00000
EAST_LONGITUDE: -114 15 0.00000
NORTH_LATITUDE: 46 26 15.00000
SOUTH_LATITUDE: 46 22 30.00000
PRODUCTION_DATE: 2000 3 22
RASTER_ORDER: LEFT_RIGHT/TOP_BOTTOM
BAND_ORGANIZATION: SINGLE FILE
BAND_CONTENT: BLACK&WHITE
BAND_CONTENT: UNDEFINED
BAND_CONTENT: UNDEFINED
BITS_PER_PIXEL: 8
SAMPLES_AND_LINES: 5717 7724
HORIZONTAL_DATUM: NAD83
HORIZONTAL_COORDINATE_SYSTEM: UTM
COORDINATE_ZONE: 11
HORIZONTAL_UNITS: METERS
HORIZONTAL_RESOLUTION: 1.00000
SECONDARY_HORIZONTAL_DATUM: NAD27
XY_ORIGIN: 706076.00000 5146634.00000
SECONDARY_XY_ORIGIN: 706153.98800 5146426.94800
NATION: US
NATION: "SCIENCE
STATE: MT
NW_QUAD_CORNER_XY: 706449.40900 5146168.37400
NE_QUAD_CORNER_XY: 711250.37800 5146333.57600
SE_QUAD_CORNERY_XY: 711491.95700 5139389.28600
SW_QUAD_CORNER_XY: 706685.49000 5139224.06700
SECONDARY_NW_QUAD_XY: 706455.69700 5145950.23600
SECONDARY_NE_QUAD_XY: 711256.81200 5146115.44300
SECONDARY_SE_QUAD_XY: 711498.39000 5139171.19000
SECONDARY_SW_QUAD_XY: 706691.77700 5139005.96600
RMSE_XY: 2.60000
IMAGE_SOURCE: BLACK AND WHITE FILM
SOURCE_IMAGE_ID: NAPP 8406 131
SOURCE_IMAGE_DATE: 1995 07 31
SOURCE_IMAGE_ID: NAPP 8407 050
SOURCE_IMAGE_DATE: 1995 08 19
SOURCE_IMAGE_ID: NAPP 8407 051
SOURCE_IMAGE_DATE: 1995 08 19
SOURCE_IMAGE_ID: NAPP 8407 173
SOURCE_IMAGE_DATE: 1995 08 19
SOURCE_IMAGE_ID: NAPP 8407 175
SOURCE_IMAGE_DATE: 1995 08 19
SOURCE_DEM_DATE: 1997 00 00
AGENCY: WESTERN MAPPING CENTER (WMC)
PRODUCER: UNDEFINED
PRODUCTION_SYSTEM: GIS/MAGIC
COMPRESSION: UNDEFINED
STANDARD_VERSION: 1996 12
METADATA_DATE: 2000 04 20
DATA_FILE_SIZE: 44163825
BYTE_COUNT: 5717
