FILENAME: O4710462.SWS.1159430.tif
QUADRANGLE_NAME: CLUSTER BUTTES SE
QUADRANT: SW
WEST_LONGITUDE: -104 22 30.00000
EAST_LONGITUDE: -104 18 45.00000
NORTH_LATITUDE: 47 3 45.00000
SOUTH_LATITUDE: 47 0 0.00000
PRODUCTION_DATE: 2001 9 15
RASTER_ORDER: LEFT_RIGHT/TOP_BOTTOM
BAND_ORGANIZATION: SINGLE FILE
BAND_CONTENT: BLACK&WHITE
BAND_CONTENT: UNDEFINED
BAND_CONTENT: UNDEFINED
BITS_PER_PIXEL: 8
SAMPLES_AND_LINES: 5456 7598
HORIZONTAL_DATUM: NAD83
HORIZONTAL_COORDINATE_SYSTEM: UTM
COORDINATE_ZONE: 13
HORIZONTAL_UNITS: meters
HORIZONTAL_RESOLUTION: 1.00000
SECONDARY_HORIZONTAL_DATUM: NAD27
XY_ORIGIN: 547117.00000 5212646.00000
SECONDARY_XY_ORIGIN: 547156.42900 5212426.27200
NATION: US
STATE: MT
NW_QUAD_CORNER_XY: 547460.48100 5212299.05800
NE_QUAD_CORNER_XY: 552206.51400 5212338.85700
SE_QUAD_CORNERY_XY: 552267.49800 5205393.45500
SW_QUAD_CORNER_XY: 547515.92100 5205353.65100
SECONDARY_NW_QUAD_XY: 547461.94500 5212080.50200
SECONDARY_NE_QUAD_XY: 552208.12500 5212120.30100
SECONDARY_SE_QUAD_XY: 552269.10900 5205174.92800
SECONDARY_SW_QUAD_XY: 547517.38500 5205135.12200
RMSE_XY: 1.33000
IMAGE_SOURCE: BLACK AND WHITE FILM
SOURCE_IMAGE_ID: NAPP 9095-058
SOURCE_IMAGE_DATE: 1996 7 9
SOURCE_IMAGE_ID: NAPP 9095-057
SOURCE_IMAGE_DATE: 1996 7 9
SOURCE_DEM_DATE: 1999 0 0
AGENCY: WESTERN MAPPING CENTER (WMC)
PRODUCER: WOOLPERT LLP
PRODUCTION_SYSTEM: INTERGRAPH ISPM, ISIR
COMPRESSION: UNDEFINED
STANDARD_VERSION: 1996 12
METADATA_DATE: 2001 9 18
DATA_FILE_SIZE: 41460144
BYTE_COUNT: 5456
