FILENAME: O4710461.SWS.1159418.tif
QUADRANGLE_NAME: CLUSTER BUTTES SW
QUADRANT: SW
WEST_LONGITUDE: -104 30 0.00000
EAST_LONGITUDE: -104 26 15.00000
NORTH_LATITUDE: 47 3 45.00000
SOUTH_LATITUDE: 47 0 0.00000
PRODUCTION_DATE: 2001 9 15
RASTER_ORDER: LEFT_RIGHT/TOP_BOTTOM
BAND_ORGANIZATION: SINGLE FILE
BAND_CONTENT: BLACK&WHITE
BAND_CONTENT: UNDEFINED
BAND_CONTENT: UNDEFINED
BITS_PER_PIXEL: 8
SAMPLES_AND_LINES: 5446 7590
HORIZONTAL_DATUM: NAD83
HORIZONTAL_COORDINATE_SYSTEM: UTM
COORDINATE_ZONE: 13
HORIZONTAL_UNITS: meters
HORIZONTAL_RESOLUTION: 1.00000
SECONDARY_HORIZONTAL_DATUM: NAD27
XY_ORIGIN: 537624.00000 5212570.00000
SECONDARY_XY_ORIGIN: 537663.58300 5212350.28600
NATION: US
STATE: MT
NW_QUAD_CORNER_XY: 537968.40400 5212230.83300
NE_QUAD_CORNER_XY: 542714.44400 5212263.05100
SE_QUAD_CORNERY_XY: 542764.34000 5205317.63700
SW_QUAD_CORNER_XY: 538012.75500 5205285.41500
SECONDARY_NW_QUAD_XY: 537969.57500 5212012.27500
SECONDARY_NE_QUAD_XY: 542715.76200 5212044.49300
SECONDARY_SE_QUAD_XY: 542765.65700 5205099.10800
SECONDARY_SW_QUAD_XY: 538013.92600 5205066.88400
RMSE_XY: 1.12000
IMAGE_SOURCE: BLACK AND WHITE FILM
SOURCE_IMAGE_ID: NAPP 9108-090
SOURCE_IMAGE_DATE: 1996 8 8
SOURCE_IMAGE_ID: NAPP 9108-091
SOURCE_IMAGE_DATE: 1996 8 8
SOURCE_DEM_DATE: 1999 0 0
AGENCY: WESTERN MAPPING CENTER (WMC)
PRODUCER: WOOLPERT LLP
PRODUCTION_SYSTEM: INTERGRAPH ISPM, ISIR
COMPRESSION: UNDEFINED
STANDARD_VERSION: 1996 12
METADATA_DATE: 2001 9 27
DATA_FILE_SIZE: 41340586
BYTE_COUNT: 5446
