FILENAME: O4710459.NES.1160719.tif
QUADRANGLE_NAME: GLENDIVE
QUADRANT: NE
WEST_LONGITUDE: -104 41 15.00000
EAST_LONGITUDE: -104 37 30.00000
NORTH_LATITUDE: 47 7 30.00000
SOUTH_LATITUDE: 47 3 45.00000
PRODUCTION_DATE: 2001 9 21
RASTER_ORDER: LEFT_RIGHT/TOP_BOTTOM
BAND_ORGANIZATION: SINGLE FILE
BAND_CONTENT: BLACK&WHITE
BAND_CONTENT: UNDEFINED
BAND_CONTENT: UNDEFINED
BITS_PER_PIXEL: 8
SAMPLES_AND_LINES: 5424 7579
HORIZONTAL_DATUM: NAD83
HORIZONTAL_COORDINATE_SYSTEM: UTM
COORDINATE_ZONE: 13
HORIZONTAL_UNITS: meters
HORIZONTAL_RESOLUTION: 1.00000
SECONDARY_HORIZONTAL_DATUM: NAD27
XY_ORIGIN: 523358.00000 5219430.00000
SECONDARY_XY_ORIGIN: 523397.74300 5219210.19300
NATION: US
STATE: MT
NW_QUAD_CORNER_XY: 523702.51800 5219102.42900
NE_QUAD_CORNER_XY: 528443.01700 5219123.27200
SE_QUAD_CORNERY_XY: 528476.31400 5212177.77000
SW_QUAD_CORNER_XY: 523730.26500 5212156.92400
SECONDARY_NW_QUAD_XY: 523703.25000 5218883.84100
SECONDARY_NE_QUAD_XY: 528443.89600 5218904.68400
SECONDARY_SE_QUAD_XY: 528477.19300 5211959.21000
SECONDARY_SW_QUAD_XY: 523730.99800 5211938.36300
RMSE_XY: 2.55000
IMAGE_SOURCE: BLACK AND WHITE FILM
SOURCE_IMAGE_ID: NAPP 9080-068
SOURCE_IMAGE_DATE: 1996 6 12
SOURCE_IMAGE_ID: NAPP 9080-067
SOURCE_IMAGE_DATE: 1996 6 12
SOURCE_IMAGE_ID: NAPP 9080-069
SOURCE_IMAGE_DATE: 1996 6 12
SOURCE_DEM_DATE: 1999 0 0
AGENCY: WESTERN MAPPING CENTER (WMC)
PRODUCER: WOOLPERT LLP
PRODUCTION_SYSTEM: INTERGRAPH ISPM, ISIR
COMPRESSION: UNDEFINED
STANDARD_VERSION: 1996 12
METADATA_DATE: 2001 10 3
DATA_FILE_SIZE: 41113920
BYTE_COUNT: 5424
