FILENAME: O4710459.SES.1160721.tif
QUADRANGLE_NAME: GLENDIVE
QUADRANT: SE
WEST_LONGITUDE: -104 41 15.00000
EAST_LONGITUDE: -104 37 30.00000
NORTH_LATITUDE: 47 3 45.00000
SOUTH_LATITUDE: 47 0 0.00000
PRODUCTION_DATE: 2001 9 21
RASTER_ORDER: LEFT_RIGHT/TOP_BOTTOM
BAND_ORGANIZATION: SINGLE FILE
BAND_CONTENT: BLACK&WHITE
BAND_CONTENT: UNDEFINED
BAND_CONTENT: UNDEFINED
BITS_PER_PIXEL: 8
SAMPLES_AND_LINES: 5429 7578
HORIZONTAL_DATUM: NAD83
HORIZONTAL_COORDINATE_SYSTEM: UTM
COORDINATE_ZONE: 13
HORIZONTAL_UNITS: meters
HORIZONTAL_RESOLUTION: 1.00000
SECONDARY_HORIZONTAL_DATUM: NAD27
XY_ORIGIN: 523386.00000 5212484.00000
SECONDARY_XY_ORIGIN: 523425.78600 5212264.27200
NATION: US
STATE: MT
NW_QUAD_CORNER_XY: 523730.26500 5212156.92400
NE_QUAD_CORNER_XY: 528476.31400 5212177.77000
SE_QUAD_CORNERY_XY: 528509.57700 5205232.34400
SW_QUAD_CORNER_XY: 523757.98400 5205211.49500
SECONDARY_NW_QUAD_XY: 523730.99800 5211938.36300
SECONDARY_NE_QUAD_XY: 528477.19300 5211959.21000
SECONDARY_SE_QUAD_XY: 528510.45600 5205013.81100
SECONDARY_SW_QUAD_XY: 523758.71700 5204992.96100
RMSE_XY: 2.40000
IMAGE_SOURCE: BLACK AND WHITE FILM
SOURCE_IMAGE_ID: NAPP 9080-066
SOURCE_IMAGE_DATE: 1996 6 12
SOURCE_IMAGE_ID: NAPP 9080-067
SOURCE_IMAGE_DATE: 1996 6 12
SOURCE_IMAGE_ID: NAPP 9080-065
SOURCE_IMAGE_DATE: 1996 6 12
SOURCE_IMAGE_ID: NAPP 9080-195
SOURCE_IMAGE_DATE: 1996 6 12
SOURCE_DEM_DATE: 1999 0 0
AGENCY: WESTERN MAPPING CENTER (WMC)
PRODUCER: WOOLPERT LLP
PRODUCTION_SYSTEM: INTERGRAPH ISPM, ISIR
COMPRESSION: UNDEFINED
STANDARD_VERSION: 1996 12
METADATA_DATE: 2001 10 3
DATA_FILE_SIZE: 41146391
BYTE_COUNT: 5429
