FILENAME: O4710456.NWS.1159444.tif
QUADRANGLE_NAME: ODLAND DAM NE
QUADRANT: NW
WEST_LONGITUDE: -104 7 30.00000
EAST_LONGITUDE: -104 3 45.00000
NORTH_LATITUDE: 47 15 0.00000
SOUTH_LATITUDE: 47 11 15.00000
PRODUCTION_DATE: 2001 9 16
RASTER_ORDER: LEFT_RIGHT/TOP_BOTTOM
BAND_ORGANIZATION: SINGLE FILE
BAND_CONTENT: BLACK&WHITE
BAND_CONTENT: UNDEFINED
BAND_CONTENT: UNDEFINED
BITS_PER_PIXEL: 8
SAMPLES_AND_LINES: 5461 7613
HORIZONTAL_DATUM: NAD83
HORIZONTAL_COORDINATE_SYSTEM: UTM
COORDINATE_ZONE: 13
HORIZONTAL_UNITS: meters
HORIZONTAL_RESOLUTION: 1.00000
SECONDARY_HORIZONTAL_DATUM: NAD27
XY_ORIGIN: 565869.00000 5233679.00000
SECONDARY_XY_ORIGIN: 565908.06200 5233459.10000
NATION: US
STATE: MT
NW_QUAD_CORNER_XY: 566211.25200 5233317.58300
NE_QUAD_CORNER_XY: 570940.59600 5233372.51800
SE_QUAD_CORNERY_XY: 571024.01400 5226426.92400
SW_QUAD_CORNER_XY: 566289.10900 5226371.98000
SECONDARY_NW_QUAD_XY: 566213.30300 5233098.95300
SECONDARY_NE_QUAD_XY: 570942.79300 5233153.89000
SECONDARY_SE_QUAD_XY: 571026.21200 5226208.32100
SECONDARY_SW_QUAD_XY: 566291.16000 5226153.37500
RMSE_XY: 2.12000
IMAGE_SOURCE: BLACK AND WHITE FILM
SOURCE_IMAGE_ID: NAPP 8631-060
SOURCE_IMAGE_DATE: 1995 7 28
SOURCE_DEM_DATE: 1999 0 0
AGENCY: WESTERN MAPPING CENTER (WMC)
PRODUCER: WOOLPERT LLP
PRODUCTION_SYSTEM: INTERGRAPH ISPM, ISIR
COMPRESSION: UNDEFINED
STANDARD_VERSION: 1996 12
METADATA_DATE: 2001 9 27
DATA_FILE_SIZE: 41580054
BYTE_COUNT: 5461
