FILENAME: O4710455.NES.1159440.tif
QUADRANGLE_NAME: ODLAND DAM NW
QUADRANT: NE
WEST_LONGITUDE: -104 11 15.00000
EAST_LONGITUDE: -104 7 30.00000
NORTH_LATITUDE: 47 15 0.00000
SOUTH_LATITUDE: 47 11 15.00000
PRODUCTION_DATE: 2001 9 16
RASTER_ORDER: LEFT_RIGHT/TOP_BOTTOM
BAND_ORGANIZATION: SINGLE FILE
BAND_CONTENT: BLACK&WHITE
BAND_CONTENT: UNDEFINED
BAND_CONTENT: UNDEFINED
BITS_PER_PIXEL: 8
SAMPLES_AND_LINES: 5456 7609
HORIZONTAL_DATUM: NAD83
HORIZONTAL_COORDINATE_SYSTEM: UTM
COORDINATE_ZONE: 13
HORIZONTAL_UNITS: meters
HORIZONTAL_RESOLUTION: 1.00000
SECONDARY_HORIZONTAL_DATUM: NAD27
XY_ORIGIN: 561139.00000 5233624.00000
SECONDARY_XY_ORIGIN: 561178.10600 5233404.07600
NATION: US
STATE: MT
NW_QUAD_CORNER_XY: 561481.90200 5233266.43700
NE_QUAD_CORNER_XY: 566211.25200 5233317.58300
SE_QUAD_CORNERY_XY: 566289.10900 5226371.98000
SW_QUAD_CORNER_XY: 561554.19700 5226320.82500
SECONDARY_NW_QUAD_XY: 561483.80700 5233047.80600
SECONDARY_NE_QUAD_XY: 566213.30300 5233098.95300
SECONDARY_SE_QUAD_XY: 566291.16000 5226153.37500
SECONDARY_SW_QUAD_XY: 561556.10200 5226102.21900
RMSE_XY: 2.33000
IMAGE_SOURCE: BLACK AND WHITE FILM
SOURCE_IMAGE_ID: NAPP 10766-134
SOURCE_IMAGE_DATE: 1998 7 10
SOURCE_IMAGE_ID: NAPP 10766-135
SOURCE_IMAGE_DATE: 1998 7 10
SOURCE_DEM_DATE: 1999 0 0
AGENCY: WESTERN MAPPING CENTER (WMC)
PRODUCER: WOOLPERT LLP
PRODUCTION_SYSTEM: INTERGRAPH ISPM, ISIR
COMPRESSION: UNDEFINED
STANDARD_VERSION: 1996 12
METADATA_DATE: 2001 9 18
DATA_FILE_SIZE: 41520160
BYTE_COUNT: 5456
