FILENAME: O4710454.SES.1159425.tif
QUADRANGLE_NAME: CLUSTER BUTTES
QUADRANT: SE
WEST_LONGITUDE: -104 18 45.00000
EAST_LONGITUDE: -104 15 0.00000
NORTH_LATITUDE: 47 11 15.00000
SOUTH_LATITUDE: 47 7 30.00000
PRODUCTION_DATE: 2001 9 15
RASTER_ORDER: LEFT_RIGHT/TOP_BOTTOM
BAND_ORGANIZATION: SINGLE FILE
BAND_CONTENT: BLACK&WHITE
BAND_CONTENT: UNDEFINED
BAND_CONTENT: UNDEFINED
BITS_PER_PIXEL: 8
SAMPLES_AND_LINES: 5450 7601
HORIZONTAL_DATUM: NAD83
HORIZONTAL_COORDINATE_SYSTEM: UTM
COORDINATE_ZONE: 13
HORIZONTAL_UNITS: meters
HORIZONTAL_RESOLUTION: 1.00000
SECONDARY_HORIZONTAL_DATUM: NAD27
XY_ORIGIN: 551741.00000 5226580.00000
SECONDARY_XY_ORIGIN: 551780.26800 5226360.12400
NATION: US
STATE: MT
NW_QUAD_CORNER_XY: 552084.35800 5226229.88500
NE_QUAD_CORNER_XY: 556819.28000 5226273.46100
SE_QUAD_CORNERY_XY: 556885.94500 5219327.91600
SW_QUAD_CORNER_XY: 552145.46700 5219284.33400
SECONDARY_NW_QUAD_XY: 552085.96900 5226011.27600
SECONDARY_NE_QUAD_XY: 556821.03800 5226054.85300
SECONDARY_SE_QUAD_XY: 556887.70300 5219109.33500
SECONDARY_SW_QUAD_XY: 552147.07800 5219065.75100
RMSE_XY: 1.21000
IMAGE_SOURCE: BLACK AND WHITE FILM
SOURCE_IMAGE_ID: NAPP 9124-044
SOURCE_IMAGE_DATE: 1997 8 22
SOURCE_DEM_DATE: 1999 0 0
AGENCY: WESTERN MAPPING CENTER (WMC)
PRODUCER: WOOLPERT LLP
PRODUCTION_SYSTEM: INTERGRAPH ISPM, ISIR
COMPRESSION: UNDEFINED
STANDARD_VERSION: 1996 12
METADATA_DATE: 2001 9 18
DATA_FILE_SIZE: 41430900
BYTE_COUNT: 5450
